{"text_format":"1","workbook":"xlsx","n_sheets":4,"sheets":["Rendelés","Elszámolás","Nyomtatás","Email"],"not_rendered":{"charts":0,"images":0,"macros":1,"external_links":0,"defined_names":1,"comments":1,"pivot_tables":0},"unopened":[],"bounds":{"document_bytes":16777216,"sheet_cells":100000,"rows_first":2000,"rows_last":500,"rows_between":2000,"halvings":0,"cell_chars":16384,"cell_head_chars":4096},"cells_cut":0,"cells_raw":0,"read":"whole","date_system":"1900"}

{"sheet":"Rendelés","index":0,"n_rows":67,"n_cols":36,"rows_kept":67,"cut":false,"hidden":false,"merged":[[63,7,63,8],[64,7,64,8],[65,7,65,8],[66,7,66,8]]}
["Menü","Összesen","a","b","c","d","e","e","e","e","e","e","e","e","e","e","e","e","e","e","e","e","e","e","e","e","e","e","e","e","e","e","e","e","e","e"]
["Hétfő"]
["Ciorba de cartofi cu afumatura",{"$f":"SUM(C3:AK3)","v":0}]
["Supa de ceapa frantuzeasca(P)",7,1,null,1,null,null,null,1,1,null,null,null,null,null,null,null,null,null,null,null,null,1,null,null,null,null,null,null,null,null,null,1,null,1]
["Supa de gasca cu legume",1,null,null,null,null,null,null,null,null,null,null,null,null,null,null,null,null,null,null,null,null,null,null,null,1]
["Ciorba de curcan cu tarhon",2,null,null,null,null,null,null,null,null,null,null,null,null,null,null,null,null,null,null,null,null,null,null,null,null,null,null,null,null,1,null,null,null,null,1]
["Piept de pui cu susan + Cartofi cu unt",6,null,null,1,null,null,null,1,1,null,null,null,null,null,null,null,null,null,null,null,null,1,null,null,null,null,null,null,null,1,null,1]
["Muschiulet de porc cu sos de piper + Orez",4,1,null,null,null,null,null,null,null,null,null,null,null,null,null,null,null,null,null,null,null,null,null,null,1,null,null,null,null,null,null,null,null,1,1]
["Legume gratinate(P)",0]
["Tagliatelle verzi cu sos Gorgonzola",0]
["Salata de varza",10,1,null,1,null,null,null,1,1,null,null,null,null,null,null,null,null,null,null,null,null,1,null,null,1,null,null,null,null,1,null,1,null,1,1]
["-",0]
["Clatita cu gem",10,1,null,1,null,null,null,1,1,null,null,null,null,null,null,null,null,null,null,null,null,1,null,null,1,null,null,null,null,1,null,1,null,1,1]
["Kedd"]
["Ciorba de fasole cu ciolan",{"$f":"SUM(C15:AK15)","v":6},null,null,null,null,null,null,1,null,1,1,null,null,null,null,null,null,null,null,null,null,null,null,null,null,null,null,null,null,1,null,null,null,1,1]
["Supa rece de caise(P)",3,1,null,null,null,null,1,null,1]
["Supa de rosii cu Parmezan(P) ",0]
["Supa de pui cu galuste",3,null,null,null,null,null,null,null,null,null,1,null,null,null,null,null,null,null,null,null,null,null,null,null,null,null,null,null,null,null,null,1,1]
["Stroganoff de pui + Piure de cartofi",2,null,null,null,null,null,null,null,null,null,null,null,null,null,null,null,null,null,null,null,null,null,null,null,null,null,null,null,null,null,null,null,1,null,1]
["Penne Carbonara",2,1,null,null,null,null,null,null,1]
["Friptura de vita + Cartofi natur",5,null,null,null,null,null,null,1,null,1,1,null,null,null,null,null,null,null,null,null,null,null,null,null,null,null,null,null,null,1,null,null,null,1]
["Ciuperci la grill cu sos de cas (P) + Orez",1,null,null,null,null,null,null,null,null,null,null,null,null,null,null,null,null,null,null,null,null,null,null,null,null,null,null,null,null,null,null,1]
["Salata de cruditati",10,1,null,null,null,null,null,1,1,1,1,null,null,null,null,null,null,null,null,null,null,null,null,null,null,null,null,null,null,1,null,1,1,1,1]
["-",0]
["Piscot cu visine",11,1,null,null,null,null,1,1,1,1,1,null,null,null,null,null,null,null,null,null,null,null,null,null,null,null,null,null,null,1,null,1,1,1,1]
["Szerda"]
["Supa rece de fructe(P)",{"$f":"SUM(C27:AK27)","v":3},null,null,null,null,null,null,null,1,null,null,null,null,null,null,null,null,null,null,null,null,null,null,null,1,null,null,null,null,1]
["Ciorba de burta",3,null,null,null,null,null,null,null,null,null,1,null,null,null,null,null,null,null,null,null,null,null,null,null,null,null,null,null,null,null,null,null,null,1,1]
["Ciorba de legume cu carne de pui",3,null,null,1,null,null,null,null,null,null,null,null,null,null,null,null,null,null,null,null,null,null,null,null,null,null,null,null,null,null,null,1,1]
["Supa crema de ciuperci(P)",2,1,null,null,null,null,null,1]
["Fasole frecata cu ceapa prajita(P)",0]
["Frigarui de pui + Orez cu porumb",6,1,null,null,null,null,null,1,1,null,null,null,1,null,null,null,null,null,null,null,null,null,null,null,null,null,null,null,null,null,null,1,null,1]
["Cotlet Parisien + Cartofi cu patrunjel",5,null,null,1,null,null,null,null,null,null,null,null,null,null,null,null,null,null,null,null,null,null,null,null,1,null,null,null,null,1,null,null,1,null,1]
["Dovlecei umpluti(P)",1,null,null,null,null,null,null,null,null,null,1]
["Salata de castraveti",11,1,null,1,null,null,null,1,1,null,1,null,null,null,null,null,null,null,null,null,null,null,null,null,1,null,null,null,null,1,null,1,1,1,1]
["-",0]
["Maglyarakas",13,1,null,1,null,null,null,1,1,null,1,null,1,null,null,null,null,null,null,null,null,null,null,null,1,null,null,null,null,1,null,1,1,1,2]
["Csütörtök"]
["Supa de taietei",{"$f":"SUM(C39:AK39)","v":0}]
["Gulyas de porc",8,1,null,1,null,null,null,1,1,1,1,null,null,null,null,null,null,null,null,null,null,null,null,null,null,null,null,null,null,null,null,null,1,null,1]
["Ciorba de pui a la Grec",3,null,null,null,null,null,null,null,null,null,null,null,null,null,1,null,null,null,null,null,null,null,null,null,2]
["Supa crema de legume(P)",1,null,null,null,null,null,null,null,null,null,null,null,null,null,null,null,null,null,null,null,null,1]
["Ghiveci proaspat(P) + Orez salbatic",1,null,null,null,null,null,null,null,null,null,1]
["Ficat de pui cu ceapa + Cartofi cu unt",5,1,null,1,null,null,null,1,1,1]
["Piept de curcan in sos curry + Paste",3,null,null,null,null,null,null,null,null,null,null,null,null,null,1,null,null,null,null,null,null,null,null,null,2]
["Ceafa cu so picant + Piure de cartofi",2,null,null,null,null,null,null,null,null,null,null,null,null,null,null,null,null,null,null,null,null,null,null,null,null,null,null,null,null,null,null,null,1,null,1]
["Salata de varza cu rosii",11,1,null,1,null,null,null,1,1,1,1,null,null,null,1,null,null,null,null,null,null,null,null,null,2,null,null,null,null,null,null,null,1,null,1]
["-",0]
["Prajitura cu branza de vaca",11,1,null,1,null,null,null,1,1,1,1,null,null,null,1,null,null,null,null,null,null,null,null,null,2,null,null,null,null,null,null,null,1,null,1]
["Péntek"]
["Lucskos cu afumatura",{"$f":"SUM(C51:AK51)","v":6},1,null,1,null,null,null,null,null,null,1,null,null,null,null,null,null,null,null,null,null,null,null,null,2,null,null,null,null,1]
["Supa de carne cu legume",1,null,null,null,null,null,null,1]
["Gulyas de pui",4,null,null,null,null,null,null,null,1,null,null,null,null,null,null,null,null,null,null,null,null,null,null,null,null,null,null,1,null,null,null,null,null,1,1]
["Supa crema de broccoli(P)",0]
["Cotlet Holstein + Piure de cartofi",7,1,null,null,1,null,null,1,1,null,null,null,null,null,null,null,null,null,null,null,null,null,null,null,null,null,null,1,null,1,null,null,null,null,1]
["Iahnie de fasole cu ciolan prajit",2,null,null,null,null,null,null,null,null,null,1,null,null,null,null,null,null,null,null,null,null,null,null,null,null,null,null,null,null,null,null,null,null,1]
["Pulpa de pui la tava + Rizi-bizi",3,null,null,1,null,null,null,null,null,null,null,null,null,null,null,null,null,null,null,null,null,null,null,null,2]
["Farfalle Porcini(P)",0]
["Salata de rosii",12,1,null,1,1,null,null,1,1,null,1,null,null,null,null,null,null,null,null,null,null,null,null,null,2,null,null,1,null,1,null,1,null,null,1]
["-",0]
["Pepene",11,1,null,1,null,null,null,1,1,null,1,null,null,null,null,null,null,null,null,null,null,null,null,null,2,null,null,1,null,1,null,null,null,1,1]
[]
[null,null,"Megjegyzés"]
[null,null,"L","leves",null,null,null,5]
[null,null,"M","második",null,null,null,8]
[null,null,"S/D","saláta/desszert",null,null,null,2]
[null,null,"teljes menü",null,null,null,null,13]

{"sheet":"Elszámolás","index":1,"n_rows":57,"n_cols":39,"rows_kept":57,"cut":false,"hidden":false,"merged":[]}
["Rendelés: Kun Gizella, 0728-129084",null,{"$f":"Rendelés!C1","v":"a"},{"$f":"Rendelés!D1","v":"b"},{"$f":"Rendelés!E1","v":"c"},{"$f":"Rendelés!F1","v":"d"},{"$f":"Rendelés!G1","v":"e"},{"$f":"Rendelés!H1","v":"e"},{"$f":"Rendelés!I1","v":"e"},{"$f":"Rendelés!J1","v":"e"},{"$f":"Rendelés!K1","v":"e"},{"$f":"Rendelés!L1","v":"e"},{"$f":"Rendelés!M1","v":"e"},{"$f":"Rendelés!N1","v":"e"},{"$f":"Rendelés!O1","v":"e"},{"$f":"Rendelés!P1","v":"e"},{"$f":"Rendelés!Q1","v":"e"},{"$f":"Rendelés!R1","v":"e"},{"$f":"Rendelés!S1","v":"e"},{"$f":"Rendelés!T1","v":"e"},{"$f":"Rendelés!U1","v":"e"},{"$f":"Rendelés!V1","v":"e"},{"$f":"Rendelés!W1","v":"e"},{"$f":"Rendelés!X1","v":"e"},{"$f":"Rendelés!Y1","v":"e"},{"$f":"Rendelés!Z1","v":"e"},{"$f":"Rendelés!AA1","v":"e"},{"$f":"Rendelés!AB1","v":"e"},{"$f":"Rendelés!AC1","v":"e"},{"$f":"Rendelés!AD1","v":"e"},{"$f":"Rendelés!AE1","v":"e"},{"$f":"Rendelés!AF1","v":"e"},{"$f":"Rendelés!AG1","v":"e"},{"$f":"Rendelés!AH1","v":"e"},{"$f":"Rendelés!AI1","v":"e"},{"$f":"Rendelés!AJ1","v":"e"},{"$f":"Rendelés!AK1","v":0},{"$f":"Rendelés!AL1","v":0},{"$f":"Rendelés!AM1","v":0}]
["Hétfő"]
["Leves",null,{"$f":"SUM(Rendelés!C3:C6)","v":1},{"$f":"SUM(Rendelés!D3:D6)","v":0},{"$f":"SUM(Rendelés!E3:E6)","v":1},{"$f":"SUM(Rendelés!F3:F6)","v":0},{"$f":"SUM(Rendelés!G3:G6)","v":0},{"$f":"SUM(Rendelés!H3:H6)","v":0},{"$f":"SUM(Rendelés!I3:I6)","v":1},{"$f":"SUM(Rendelés!J3:J6)","v":1},{"$f":"SUM(Rendelés!K3:K6)","v":0},{"$f":"SUM(Rendelés!L3:L6)","v":0},{"$f":"SUM(Rendelés!M3:M6)","v":0},{"$f":"SUM(Rendelés!N3:N6)","v":0},{"$f":"SUM(Rendelés!O3:O6)","v":0},{"$f":"SUM(Rendelés!P3:P6)","v":0},{"$f":"SUM(Rendelés!Q3:Q6)","v":0},{"$f":"SUM(Rendelés!R3:R6)","v":0},{"$f":"SUM(Rendelés!S3:S6)","v":0},{"$f":"SUM(Rendelés!T3:T6)","v":0},{"$f":"SUM(Rendelés!U3:U6)","v":0},{"$f":"SUM(Rendelés!V3:V6)","v":0},{"$f":"SUM(Rendelés!W3:W6)","v":1},{"$f":"SUM(Rendelés!X3:X6)","v":0},{"$f":"SUM(Rendelés!Y3:Y6)","v":0},{"$f":"SUM(Rendelés!Z3:Z6)","v":1},{"$f":"SUM(Rendelés!AA3:AA6)","v":0},{"$f":"SUM(Rendelés!AB3:AB6)","v":0},{"$f":"SUM(Rendelés!AC3:AC6)","v":0},{"$f":"SUM(Rendelés!AD3:AD6)","v":0},{"$f":"SUM(Rendelés!AE3:AE6)","v":1},{"$f":"SUM(Rendelés!AF3:AF6)","v":0},{"$f":"SUM(Rendelés!AG3:AG6)","v":1},{"$f":"SUM(Rendelés!AH3:AH6)","v":0},{"$f":"SUM(Rendelés!AI3:AI6)","v":1},{"$f":"SUM(Rendelés!AJ3:AJ6)","v":1}]
["Masodik",null,{"$f":"SUM(Rendelés!C7:C10)","v":1},{"$f":"SUM(Rendelés!D7:D10)","v":0},{"$f":"SUM(Rendelés!E7:E10)","v":1},{"$f":"SUM(Rendelés!F7:F10)","v":0},{"$f":"SUM(Rendelés!G7:G10)","v":0},{"$f":"SUM(Rendelés!H7:H10)","v":0},{"$f":"SUM(Rendelés!I7:I10)","v":1},{"$f":"SUM(Rendelés!J7:J10)","v":1},{"$f":"SUM(Rendelés!K7:K10)","v":0},{"$f":"SUM(Rendelés!L7:L10)","v":0},{"$f":"SUM(Rendelés!M7:M10)","v":0},{"$f":"SUM(Rendelés!N7:N10)","v":0},{"$f":"SUM(Rendelés!O7:O10)","v":0},{"$f":"SUM(Rendelés!P7:P10)","v":0},{"$f":"SUM(Rendelés!Q7:Q10)","v":0},{"$f":"SUM(Rendelés!R7:R10)","v":0},{"$f":"SUM(Rendelés!S7:S10)","v":0},{"$f":"SUM(Rendelés!T7:T10)","v":0},{"$f":"SUM(Rendelés!U7:U10)","v":0},{"$f":"SUM(Rendelés!V7:V10)","v":0},{"$f":"SUM(Rendelés!W7:W10)","v":1},{"$f":"SUM(Rendelés!X7:X10)","v":0},{"$f":"SUM(Rendelés!Y7:Y10)","v":0},{"$f":"SUM(Rendelés!Z7:Z10)","v":1},{"$f":"SUM(Rendelés!AA7:AA10)","v":0},{"$f":"SUM(Rendelés!AB7:AB10)","v":0},{"$f":"SUM(Rendelés!AC7:AC10)","v":0},{"$f":"SUM(Rendelés!AD7:AD10)","v":0},{"$f":"SUM(Rendelés!AE7:AE10)","v":1},{"$f":"SUM(Rendelés!AF7:AF10)","v":0},{"$f":"SUM(Rendelés!AG7:AG10)","v":1},{"$f":"SUM(Rendelés!AH7:AH10)","v":0},{"$f":"SUM(Rendelés!AI7:AI10)","v":1},{"$f":"SUM(Rendelés!AJ7:AJ10)","v":1}]
["Salata",null,{"$f":"SUM(Rendelés!C11:'Rendelés'!C12)","v":1},{"$f":"SUM(Rendelés!D11:'Rendelés'!D12)","v":0},{"$f":"SUM(Rendelés!E11:'Rendelés'!E12)","v":1},{"$f":"SUM(Rendelés!F11:'Rendelés'!F12)","v":0},{"$f":"SUM(Rendelés!G11:'Rendelés'!G12)","v":0},{"$f":"SUM(Rendelés!H11:'Rendelés'!H12)","v":0},{"$f":"SUM(Rendelés!I11:'Rendelés'!I12)","v":1},{"$f":"SUM(Rendelés!J11:'Rendelés'!J12)","v":1},{"$f":"SUM(Rendelés!K11:'Rendelés'!K12)","v":0},{"$f":"SUM(Rendelés!L11:'Rendelés'!L12)","v":0},{"$f":"SUM(Rendelés!M11:'Rendelés'!M12)","v":0},{"$f":"SUM(Rendelés!N11:'Rendelés'!N12)","v":0},{"$f":"SUM(Rendelés!O11:'Rendelés'!O12)","v":0},{"$f":"SUM(Rendelés!P11:'Rendelés'!P12)","v":0},{"$f":"SUM(Rendelés!Q11:'Rendelés'!Q12)","v":0},{"$f":"SUM(Rendelés!R11:'Rendelés'!R12)","v":0},{"$f":"SUM(Rendelés!S11:'Rendelés'!S12)","v":0},{"$f":"SUM(Rendelés!T11:'Rendelés'!T12)","v":0},{"$f":"SUM(Rendelés!U11:'Rendelés'!U12)","v":0},{"$f":"SUM(Rendelés!V11:'Rendelés'!V12)","v":0},{"$f":"SUM(Rendelés!W11:'Rendelés'!W12)","v":1},{"$f":"SUM(Rendelés!X11:'Rendelés'!X12)","v":0},{"$f":"SUM(Rendelés!Y11:'Rendelés'!Y12)","v":0},{"$f":"SUM(Rendelés!Z11:'Rendelés'!Z12)","v":1},{"$f":"SUM(Rendelés!AA11:'Rendelés'!AA12)","v":0},{"$f":"SUM(Rendelés!AB11:'Rendelés'!AB12)","v":0},{"$f":"SUM(Rendelés!AC11:'Rendelés'!AC12)","v":0},{"$f":"SUM(Rendelés!AD11:'Rendelés'!AD12)","v":0},{"$f":"SUM(Rendelés!AE11:'Rendelés'!AE12)","v":1},{"$f":"SUM(Rendelés!AF11:'Rendelés'!AF12)","v":0},{"$f":"SUM(Rendelés!AG11:'Rendelés'!AG12)","v":1},{"$f":"SUM(Rendelés!AH11:'Rendelés'!AH12)","v":0},{"$f":"SUM(Rendelés!AI11:'Rendelés'!AI12)","v":1},{"$f":"SUM(Rendelés!AJ11:'Rendelés'!AJ12)","v":1}]
["Desszert",null,{"$f":"SUM(Rendelés!C13)","v":1},{"$f":"SUM(Rendelés!D13)","v":0},{"$f":"SUM(Rendelés!E13)","v":1},{"$f":"SUM(Rendelés!F13)","v":0},{"$f":"SUM(Rendelés!G13)","v":0},{"$f":"SUM(Rendelés!H13)","v":0},{"$f":"SUM(Rendelés!I13)","v":1},{"$f":"SUM(Rendelés!J13)","v":1},{"$f":"SUM(Rendelés!K13)","v":0},{"$f":"SUM(Rendelés!L13)","v":0},{"$f":"SUM(Rendelés!M13)","v":0},{"$f":"SUM(Rendelés!N13)","v":0},{"$f":"SUM(Rendelés!O13)","v":0},{"$f":"SUM(Rendelés!P13)","v":0},{"$f":"SUM(Rendelés!Q13)","v":0},{"$f":"SUM(Rendelés!R13)","v":0},{"$f":"SUM(Rendelés!S13)","v":0},{"$f":"SUM(Rendelés!T13)","v":0},{"$f":"SUM(Rendelés!U13)","v":0},{"$f":"SUM(Rendelés!V13)","v":0},{"$f":"SUM(Rendelés!W13)","v":1},{"$f":"SUM(Rendelés!X13)","v":0},{"$f":"SUM(Rendelés!Y13)","v":0},{"$f":"SUM(Rendelés!Z13)","v":1},{"$f":"SUM(Rendelés!AA13)","v":0},{"$f":"SUM(Rendelés!AB13)","v":0},{"$f":"SUM(Rendelés!AC13)","v":0},{"$f":"SUM(Rendelés!AD13)","v":0},{"$f":"SUM(Rendelés!AE13)","v":1},{"$f":"SUM(Rendelés!AF13)","v":0},{"$f":"SUM(Rendelés!AG13)","v":1},{"$f":"SUM(Rendelés!AH13)","v":0},{"$f":"SUM(Rendelés!AI13)","v":1},{"$f":"SUM(Rendelés!AJ13)","v":1}]
["Ebbol menu:",{"$f":"SUM(C7:AK7)","v":10},{"$f":"MIN(C3:C4)","v":1},0,1,0,0,0,1,1,0,0,0,0,0,0,{"$f":"MIN(Q3:Q4)","v":0},0,0,0,0,0,1,0,0,1,0,{"$f":"MIN(AB3:AB4)","v":0},0,0,{"$f":"MIN(AE3:AE4)","v":1},{"$f":"MIN(AF3:AF4)","v":0},{"$f":"MIN(AG3:AG4)","v":1},{"$f":"MIN(AH3:AH4)","v":0},1,1]
["Osszeg:",{"$f":"SUM(C8:AY8)","v":130},{"$f":"(C3-C7)*Rendelés!$H$64+(C4-C7)*Rendelés!$H$65+MAX(0,C5-C7)*Rendelés!$H$66+MAX(0, C6-C7)*Rendelés!$H$66+C7*Rendelés!$H$67","v":13},{"$f":"(D3-D7)*Rendelés!$H$64+(D4-D7)*Rendelés!$H$65+MAX(0,D5-D7)*Rendelés!$H$66+MAX(0, D6-D7)*Rendelés!$H$66+D7*Rendelés!$H$67","v":0},{"$f":"(E3-E7)*Rendelés!$H$64+(E4-E7)*Rendelés!$H$65+MAX(0,E5-E7)*Rendelés!$H$66+MAX(0, E6-E7)*Rendelés!$H$66+E7*Rendelés!$H$67","v":13},{"$f":"(F3-F7)*Rendelés!$H$64+(F4-F7)*Rendelés!$H$65+MAX(0,F5-F7)*Rendelés!$H$66+MAX(0, F6-F7)*Rendelés!$H$66+F7*Rendelés!$H$67","v":0},{"$f":"(G3-G7)*Rendelés!$H$64+(G4-G7)*Rendelés!$H$65+MAX(0,G5-G7)*Rendelés!$H$66+MAX(0, G6-G7)*Rendelés!$H$66+G7*Rendelés!$H$67","v":0},{"$f":"(H3-H7)*Rendelés!$H$64+(H4-H7)*Rendelés!$H$65+MAX(0,H5-H7)*Rendelés!$H$66+MAX(0, H6-H7)*Rendelés!$H$66+H7*Rendelés!$H$67","v":0},{"$f":"(I3-I7)*Rendelés!$H$64+(I4-I7)*Rendelés!$H$65+MAX(0,I5-I7)*Rendelés!$H$66+MAX(0, I6-I7)*Rendelés!$H$66+I7*Rendelés!$H$67","v":13},{"$f":"(J3-J7)*Rendelés!$H$64+(J4-J7)*Rendelés!$H$65+MAX(0,J5-J7)*Rendelés!$H$66+MAX(0, J6-J7)*Rendelés!$H$66+J7*Rendelés!$H$67","v":13},{"$f":"(K3-K7)*Rendelés!$H$64+(K4-K7)*Rendelés!$H$65+MAX(0,K5-K7)*Rendelés!$H$66+MAX(0, K6-K7)*Rendelés!$H$66+K7*Rendelés!$H$67","v":0},{"$f":"(L3-L7)*Rendelés!$H$64+(L4-L7)*Rendelés!$H$65+MAX(0,L5-L7)*Rendelés!$H$66+MAX(0, L6-L7)*Rendelés!$H$66+L7*Rendelés!$H$67","v":0},{"$f":"(M3-M7)*Rendelés!$H$64+(M4-M7)*Rendelés!$H$65+MAX(0,M5-M7)*Rendelés!$H$66+MAX(0, M6-M7)*Rendelés!$H$66+M7*Rendelés!$H$67","v":0},{"$f":"(N3-N7)*Rendelés!$H$64+(N4-N7)*Rendelés!$H$65+MAX(0,N5-N7)*Rendelés!$H$66+MAX(0, N6-N7)*Rendelés!$H$66+N7*Rendelés!$H$67","v":0},{"$f":"(O3-O7)*Rendelés!$H$64+(O4-O7)*Rendelés!$H$65+MAX(0,O5-O7)*Rendelés!$H$66+MAX(0, O6-O7)*Rendelés!$H$66+O7*Rendelés!$H$67","v":0},{"$f":"(P3-P7)*Rendelés!$H$64+(P4-P7)*Rendelés!$H$65+MAX(0,P5-P7)*Rendelés!$H$66+MAX(0, P6-P7)*Rendelés!$H$66+P7*Rendelés!$H$67","v":0},{"$f":"(Q3-Q7)*Rendelés!$H$64+(Q4-Q7)*Rendelés!$H$65+MAX(0,Q5-Q7)*Rendelés!$H$66+MAX(0, Q6-Q7)*Rendelés!$H$66+Q7*Rendelés!$H$67","v":0},{"$f":"(R3-R7)*Rendelés!$H$64+(R4-R7)*Rendelés!$H$65+MAX(0,R5-R7)*Rendelés!$H$66+MAX(0, R6-R7)*Rendelés!$H$66+R7*Rendelés!$H$67","v":0},{"$f":"(S3-S7)*Rendelés!$H$64+(S4-S7)*Rendelés!$H$65+MAX(0,S5-S7)*Rendelés!$H$66+MAX(0, S6-S7)*Rendelés!$H$66+S7*Rendelés!$H$67","v":0},{"$f":"(T3-T7)*Rendelés!$H$64+(T4-T7)*Rendelés!$H$65+MAX(0,T5-T7)*Rendelés!$H$66+MAX(0, T6-T7)*Rendelés!$H$66+T7*Rendelés!$H$67","v":0},{"$f":"(U3-U7)*Rendelés!$H$64+(U4-U7)*Rendelés!$H$65+MAX(0,U5-U7)*Rendelés!$H$66+MAX(0, U6-U7)*Rendelés!$H$66+U7*Rendelés!$H$67","v":0},{"$f":"(V3-V7)*Rendelés!$H$64+(V4-V7)*Rendelés!$H$65+MAX(0,V5-V7)*Rendelés!$H$66+MAX(0, V6-V7)*Rendelés!$H$66+V7*Rendelés!$H$67","v":0},{"$f":"(W3-W7)*Rendelés!$H$64+(W4-W7)*Rendelés!$H$65+MAX(0,W5-W7)*Rendelés!$H$66+MAX(0, W6-W7)*Rendelés!$H$66+W7*Rendelés!$H$67","v":13},{"$f":"(X3-X7)*Rendelés!$H$64+(X4-X7)*Rendelés!$H$65+MAX(0,X5-X7)*Rendelés!$H$66+MAX(0, X6-X7)*Rendelés!$H$66+X7*Rendelés!$H$67","v":0},{"$f":"(Y3-Y7)*Rendelés!$H$64+(Y4-Y7)*Rendelés!$H$65+MAX(0,Y5-Y7)*Rendelés!$H$66+MAX(0, Y6-Y7)*Rendelés!$H$66+Y7*Rendelés!$H$67","v":0},{"$f":"(Z3-Z7)*Rendelés!$H$64+(Z4-Z7)*Rendelés!$H$65+MAX(0,Z5-Z7)*Rendelés!$H$66+MAX(0, Z6-Z7)*Rendelés!$H$66+Z7*Rendelés!$H$67","v":13},{"$f":"(AA3-AA7)*Rendelés!$H$64+(AA4-AA7)*Rendelés!$H$65+MAX(0,AA5-AA7)*Rendelés!$H$66+MAX(0, AA6-AA7)*Rendelés!$H$66+AA7*Rendelés!$H$67","v":0},{"$f":"(AB3-AB7)*Rendelés!$H$64+(AB4-AB7)*Rendelés!$H$65+MAX(0,AB5-AB7)*Rendelés!$H$66+MAX(0, AB6-AB7)*Rendelés!$H$66+AB7*Rendelés!$H$67","v":0},{"$f":"(AC3-AC7)*Rendelés!$H$64+(AC4-AC7)*Rendelés!$H$65+MAX(0,AC5-AC7)*Rendelés!$H$66+MAX(0, AC6-AC7)*Rendelés!$H$66+AC7*Rendelés!$H$67","v":0},{"$f":"(AD3-AD7)*Rendelés!$H$64+(AD4-AD7)*Rendelés!$H$65+MAX(0,AD5-AD7)*Rendelés!$H$66+MAX(0, AD6-AD7)*Rendelés!$H$66+AD7*Rendelés!$H$67","v":0},{"$f":"(AE3-AE7)*Rendelés!$H$64+(AE4-AE7)*Rendelés!$H$65+MAX(0,AE5-AE7)*Rendelés!$H$66+MAX(0, AE6-AE7)*Rendelés!$H$66+AE7*Rendelés!$H$67","v":13},{"$f":"(AF3-AF7)*Rendelés!$H$64+(AF4-AF7)*Rendelés!$H$65+MAX(0,AF5-AF7)*Rendelés!$H$66+MAX(0, AF6-AF7)*Rendelés!$H$66+AF7*Rendelés!$H$67","v":0},{"$f":"(AG3-AG7)*Rendelés!$H$64+(AG4-AG7)*Rendelés!$H$65+MAX(0,AG5-AG7)*Rendelés!$H$66+MAX(0, AG6-AG7)*Rendelés!$H$66+AG7*Rendelés!$H$67","v":13},{"$f":"(AH3-AH7)*Rendelés!$H$64+(AH4-AH7)*Rendelés!$H$65+MAX(0,AH5-AH7)*Rendelés!$H$66+MAX(0, AH6-AH7)*Rendelés!$H$66+AH7*Rendelés!$H$67","v":0},{"$f":"(AI3-AI7)*Rendelés!$H$64+(AI4-AI7)*Rendelés!$H$65+MAX(0,AI5-AI7)*Rendelés!$H$66+MAX(0, AI6-AI7)*Rendelés!$H$66+AI7*Rendelés!$H$67","v":13},{"$f":"(AJ3-AJ7)*Rendelés!$H$64+(AJ4-AJ7)*Rendelés!$H$65+MAX(0,AJ5-AJ7)*Rendelés!$H$66+MAX(0, AJ6-AJ7)*Rendelés!$H$66+AJ7*Rendelés!$H$67","v":13}]
["Fizetett:",{"$f":"SUM(C9:AY9)","v":0}]
[]
[]
[]
[]
["Kedd"]
["Leves",null,{"$f":"SUM(Rendelés!C15:C18)","v":1},{"$f":"SUM(Rendelés!D15:D18)","v":0},{"$f":"SUM(Rendelés!E15:E18)","v":0},{"$f":"SUM(Rendelés!F15:F18)","v":0},{"$f":"SUM(Rendelés!G15:G18)","v":0},{"$f":"SUM(Rendelés!H15:H18)","v":1},{"$f":"SUM(Rendelés!I15:I18)","v":1},{"$f":"SUM(Rendelés!J15:J18)","v":1},{"$f":"SUM(Rendelés!K15:K18)","v":1},{"$f":"SUM(Rendelés!L15:L18)","v":2},{"$f":"SUM(Rendelés!M15:M18)","v":0},{"$f":"SUM(Rendelés!N15:N18)","v":0},{"$f":"SUM(Rendelés!O15:O18)","v":0},{"$f":"SUM(Rendelés!P15:P18)","v":0},{"$f":"SUM(Rendelés!Q15:Q18)","v":0},{"$f":"SUM(Rendelés!R15:R18)","v":0},{"$f":"SUM(Rendelés!S15:S18)","v":0},{"$f":"SUM(Rendelés!T15:T18)","v":0},{"$f":"SUM(Rendelés!U15:U18)","v":0},{"$f":"SUM(Rendelés!V15:V18)","v":0},{"$f":"SUM(Rendelés!W15:W18)","v":0},{"$f":"SUM(Rendelés!X15:X18)","v":0},{"$f":"SUM(Rendelés!Y15:Y18)","v":0},{"$f":"SUM(Rendelés!Z15:Z18)","v":0},{"$f":"SUM(Rendelés!AA15:AA18)","v":0},{"$f":"SUM(Rendelés!AB15:AB18)","v":0},{"$f":"SUM(Rendelés!AC15:AC18)","v":0},{"$f":"SUM(Rendelés!AD15:AD18)","v":0},{"$f":"SUM(Rendelés!AE15:AE18)","v":1},{"$f":"SUM(Rendelés!AF15:AF18)","v":0},{"$f":"SUM(Rendelés!AG15:AG18)","v":1},{"$f":"SUM(Rendelés!AH15:AH18)","v":1},{"$f":"SUM(Rendelés!AI15:AI18)","v":1},{"$f":"SUM(Rendelés!AJ15:AJ18)","v":1}]
["Masodik",null,{"$f":"SUM(Rendelés!C19:C22)","v":1},{"$f":"SUM(Rendelés!D19:D22)","v":0},{"$f":"SUM(Rendelés!E19:E22)","v":0},{"$f":"SUM(Rendelés!F19:F22)","v":0},{"$f":"SUM(Rendelés!G19:G22)","v":0},{"$f":"SUM(Rendelés!H19:H22)","v":0},{"$f":"SUM(Rendelés!I19:I22)","v":1},{"$f":"SUM(Rendelés!J19:J22)","v":1},{"$f":"SUM(Rendelés!K19:K22)","v":1},{"$f":"SUM(Rendelés!L19:L22)","v":1},{"$f":"SUM(Rendelés!M19:M22)","v":0},{"$f":"SUM(Rendelés!N19:N22)","v":0},{"$f":"SUM(Rendelés!O19:O22)","v":0},{"$f":"SUM(Rendelés!P19:P22)","v":0},{"$f":"SUM(Rendelés!Q19:Q22)","v":0},{"$f":"SUM(Rendelés!R19:R22)","v":0},{"$f":"SUM(Rendelés!S19:S22)","v":0},{"$f":"SUM(Rendelés!T19:T22)","v":0},{"$f":"SUM(Rendelés!U19:U22)","v":0},{"$f":"SUM(Rendelés!V19:V22)","v":0},{"$f":"SUM(Rendelés!W19:W22)","v":0},{"$f":"SUM(Rendelés!X19:X22)","v":0},{"$f":"SUM(Rendelés!Y19:Y22)","v":0},{"$f":"SUM(Rendelés!Z19:Z22)","v":0},{"$f":"SUM(Rendelés!AA19:AA22)","v":0},{"$f":"SUM(Rendelés!AB19:AB22)","v":0},{"$f":"SUM(Rendelés!AC19:AC22)","v":0},{"$f":"SUM(Rendelés!AD19:AD22)","v":0},{"$f":"SUM(Rendelés!AE19:AE22)","v":1},{"$f":"SUM(Rendelés!AF19:AF22)","v":0},{"$f":"SUM(Rendelés!AG19:AG22)","v":1},{"$f":"SUM(Rendelés!AH19:AH22)","v":1},{"$f":"SUM(Rendelés!AI19:AI22)","v":1},{"$f":"SUM(Rendelés!AJ19:AJ22)","v":1}]
["Salata",null,{"$f":"SUM(Rendelés!C23:'Rendelés'!C24)","v":1},{"$f":"SUM(Rendelés!D23:'Rendelés'!D24)","v":0},{"$f":"SUM(Rendelés!E23:'Rendelés'!E24)","v":0},{"$f":"SUM(Rendelés!F23:'Rendelés'!F24)","v":0},{"$f":"SUM(Rendelés!G23:'Rendelés'!G24)","v":0},{"$f":"SUM(Rendelés!H23:'Rendelés'!H24)","v":0},{"$f":"SUM(Rendelés!I23:'Rendelés'!I24)","v":1},{"$f":"SUM(Rendelés!J23:'Rendelés'!J24)","v":1},{"$f":"SUM(Rendelés!K23:'Rendelés'!K24)","v":1},{"$f":"SUM(Rendelés!L23:'Rendelés'!L24)","v":1},{"$f":"SUM(Rendelés!M23:'Rendelés'!M24)","v":0},{"$f":"SUM(Rendelés!N23:'Rendelés'!N24)","v":0},{"$f":"SUM(Rendelés!O23:'Rendelés'!O24)","v":0},{"$f":"SUM(Rendelés!P23:'Rendelés'!P24)","v":0},{"$f":"SUM(Rendelés!Q23:'Rendelés'!Q24)","v":0},{"$f":"SUM(Rendelés!R23:'Rendelés'!R24)","v":0},{"$f":"SUM(Rendelés!S23:'Rendelés'!S24)","v":0},{"$f":"SUM(Rendelés!T23:'Rendelés'!T24)","v":0},{"$f":"SUM(Rendelés!U23:'Rendelés'!U24)","v":0},{"$f":"SUM(Rendelés!V23:'Rendelés'!V24)","v":0},{"$f":"SUM(Rendelés!W23:'Rendelés'!W24)","v":0},{"$f":"SUM(Rendelés!X23:'Rendelés'!X24)","v":0},{"$f":"SUM(Rendelés!Y23:'Rendelés'!Y24)","v":0},{"$f":"SUM(Rendelés!Z23:'Rendelés'!Z24)","v":0},{"$f":"SUM(Rendelés!AA23:'Rendelés'!AA24)","v":0},{"$f":"SUM(Rendelés!AB23:'Rendelés'!AB24)","v":0},{"$f":"SUM(Rendelés!AC23:'Rendelés'!AC24)","v":0},{"$f":"SUM(Rendelés!AD23:'Rendelés'!AD24)","v":0},{"$f":"SUM(Rendelés!AE23:'Rendelés'!AE24)","v":1},{"$f":"SUM(Rendelés!AF23:'Rendelés'!AF24)","v":0},{"$f":"SUM(Rendelés!AG23:'Rendelés'!AG24)","v":1},{"$f":"SUM(Rendelés!AH23:'Rendelés'!AH24)","v":1},{"$f":"SUM(Rendelés!AI23:'Rendelés'!AI24)","v":1},{"$f":"SUM(Rendelés!AJ23:'Rendelés'!AJ24)","v":1}]
["Desszert",null,{"$f":"SUM(Rendelés!C25)","v":1},{"$f":"SUM(Rendelés!D25)","v":0},{"$f":"SUM(Rendelés!E25)","v":0},{"$f":"SUM(Rendelés!F25)","v":0},{"$f":"SUM(Rendelés!G25)","v":0},{"$f":"SUM(Rendelés!H25)","v":1},{"$f":"SUM(Rendelés!I25)","v":1},{"$f":"SUM(Rendelés!J25)","v":1},{"$f":"SUM(Rendelés!K25)","v":1},{"$f":"SUM(Rendelés!L25)","v":1},{"$f":"SUM(Rendelés!M25)","v":0},{"$f":"SUM(Rendelés!N25)","v":0},{"$f":"SUM(Rendelés!O25)","v":0},{"$f":"SUM(Rendelés!P25)","v":0},{"$f":"SUM(Rendelés!Q25)","v":0},{"$f":"SUM(Rendelés!R25)","v":0},{"$f":"SUM(Rendelés!S25)","v":0},{"$f":"SUM(Rendelés!T25)","v":0},{"$f":"SUM(Rendelés!U25)","v":0},{"$f":"SUM(Rendelés!V25)","v":0},{"$f":"SUM(Rendelés!W25)","v":0},{"$f":"SUM(Rendelés!X25)","v":0},{"$f":"SUM(Rendelés!Y25)","v":0},{"$f":"SUM(Rendelés!Z25)","v":0},{"$f":"SUM(Rendelés!AA25)","v":0},{"$f":"SUM(Rendelés!AB25)","v":0},{"$f":"SUM(Rendelés!AC25)","v":0},{"$f":"SUM(Rendelés!AD25)","v":0},{"$f":"SUM(Rendelés!AE25)","v":1},{"$f":"SUM(Rendelés!AF25)","v":0},{"$f":"SUM(Rendelés!AG25)","v":1},{"$f":"SUM(Rendelés!AH25)","v":1},{"$f":"SUM(Rendelés!AI25)","v":1},{"$f":"SUM(Rendelés!AJ25)","v":1}]
["Ebbol menu:",{"$f":"SUM(C19:AK19)","v":10},{"$f":"MIN(C15:C16)","v":1},0,0,0,0,0,1,1,1,1,{"$f":"MIN(M15:M16)","v":0},0,0,0,{"$f":"MIN(Q15:Q16)","v":0},0,0,0,0,0,0,0,0,0,0,0,{"$f":"MIN(AC15:AC16)","v":0},0,{"$f":"MIN(AE15:AE16)","v":1},{"$f":"MIN(AF15:AF16)","v":0},{"$f":"MIN(AG15:AG16)","v":1},{"$f":"MIN(AH15:AH16)","v":1},{"$f":"MIN(AI15:AI16)","v":1},1]
["Osszeg:",{"$f":"SUM(C20:AY20)","v":142},{"$f":"(C15-C19)*Rendelés!$H$64+(C16-C19)*Rendelés!$H$65+MAX(0,C17-C19)*Rendelés!$H$66+MAX(0, C18-C19)*Rendelés!$H$66+C19*Rendelés!$H$67","v":13},{"$f":"(D15-D19)*Rendelés!$H$64+(D16-D19)*Rendelés!$H$65+MAX(0,D17-D19)*Rendelés!$H$66+MAX(0, D18-D19)*Rendelés!$H$66+D19*Rendelés!$H$67","v":0},{"$f":"(E15-E19)*Rendelés!$H$64+(E16-E19)*Rendelés!$H$65+MAX(0,E17-E19)*Rendelés!$H$66+MAX(0, E18-E19)*Rendelés!$H$66+E19*Rendelés!$H$67","v":0},{"$f":"(F15-F19)*Rendelés!$H$64+(F16-F19)*Rendelés!$H$65+MAX(0,F17-F19)*Rendelés!$H$66+MAX(0, F18-F19)*Rendelés!$H$66+F19*Rendelés!$H$67","v":0},{"$f":"(G15-G19)*Rendelés!$H$64+(G16-G19)*Rendelés!$H$65+MAX(0,G17-G19)*Rendelés!$H$66+MAX(0, G18-G19)*Rendelés!$H$66+G19*Rendelés!$H$67","v":0},{"$f":"(H15-H19)*Rendelés!$H$64+(H16-H19)*Rendelés!$H$65+MAX(0,H17-H19)*Rendelés!$H$66+MAX(0, H18-H19)*Rendelés!$H$66+H19*Rendelés!$H$67","v":7},{"$f":"(I15-I19)*Rendelés!$H$64+(I16-I19)*Rendelés!$H$65+MAX(0,I17-I19)*Rendelés!$H$66+MAX(0, I18-I19)*Rendelés!$H$66+I19*Rendelés!$H$67","v":13},{"$f":"(J15-J19)*Rendelés!$H$64+(J16-J19)*Rendelés!$H$65+MAX(0,J17-J19)*Rendelés!$H$66+MAX(0, J18-J19)*Rendelés!$H$66+J19*Rendelés!$H$67","v":13},{"$f":"(K15-K19)*Rendelés!$H$64+(K16-K19)*Rendelés!$H$65+MAX(0,K17-K19)*Rendelés!$H$66+MAX(0, K18-K19)*Rendelés!$H$66+K19*Rendelés!$H$67","v":13},{"$f":"(L15-L19)*Rendelés!$H$64+(L16-L19)*Rendelés!$H$65+MAX(0,L17-L19)*Rendelés!$H$66+MAX(0, L18-L19)*Rendelés!$H$66+L19*Rendelés!$H$67","v":18},{"$f":"(M15-M19)*Rendelés!$H$64+(M16-M19)*Rendelés!$H$65+MAX(0,M17-M19)*Rendelés!$H$66+MAX(0, M18-M19)*Rendelés!$H$66+M19*Rendelés!$H$67","v":0},{"$f":"(N15-N19)*Rendelés!$H$64+(N16-N19)*Rendelés!$H$65+MAX(0,N17-N19)*Rendelés!$H$66+MAX(0, N18-N19)*Rendelés!$H$66+N19*Rendelés!$H$67","v":0},{"$f":"(O15-O19)*Rendelés!$H$64+(O16-O19)*Rendelés!$H$65+MAX(0,O17-O19)*Rendelés!$H$66+MAX(0, O18-O19)*Rendelés!$H$66+O19*Rendelés!$H$67","v":0},{"$f":"(P15-P19)*Rendelés!$H$64+(P16-P19)*Rendelés!$H$65+MAX(0,P17-P19)*Rendelés!$H$66+MAX(0, P18-P19)*Rendelés!$H$66+P19*Rendelés!$H$67","v":0},{"$f":"(Q15-Q19)*Rendelés!$H$64+(Q16-Q19)*Rendelés!$H$65+MAX(0,Q17-Q19)*Rendelés!$H$66+MAX(0, Q18-Q19)*Rendelés!$H$66+Q19*Rendelés!$H$67","v":0},{"$f":"(R15-R19)*Rendelés!$H$64+(R16-R19)*Rendelés!$H$65+MAX(0,R17-R19)*Rendelés!$H$66+MAX(0, R18-R19)*Rendelés!$H$66+R19*Rendelés!$H$67","v":0},{"$f":"(S15-S19)*Rendelés!$H$64+(S16-S19)*Rendelés!$H$65+MAX(0,S17-S19)*Rendelés!$H$66+MAX(0, S18-S19)*Rendelés!$H$66+S19*Rendelés!$H$67","v":0},{"$f":"(T15-T19)*Rendelés!$H$64+(T16-T19)*Rendelés!$H$65+MAX(0,T17-T19)*Rendelés!$H$66+MAX(0, T18-T19)*Rendelés!$H$66+T19*Rendelés!$H$67","v":0},{"$f":"(U15-U19)*Rendelés!$H$64+(U16-U19)*Rendelés!$H$65+MAX(0,U17-U19)*Rendelés!$H$66+MAX(0, U18-U19)*Rendelés!$H$66+U19*Rendelés!$H$67","v":0},{"$f":"(V15-V19)*Rendelés!$H$64+(V16-V19)*Rendelés!$H$65+MAX(0,V17-V19)*Rendelés!$H$66+MAX(0, V18-V19)*Rendelés!$H$66+V19*Rendelés!$H$67","v":0},{"$f":"(W15-W19)*Rendelés!$H$64+(W16-W19)*Rendelés!$H$65+MAX(0,W17-W19)*Rendelés!$H$66+MAX(0, W18-W19)*Rendelés!$H$66+W19*Rendelés!$H$67","v":0},{"$f":"(X15-X19)*Rendelés!$H$64+(X16-X19)*Rendelés!$H$65+MAX(0,X17-X19)*Rendelés!$H$66+MAX(0, X18-X19)*Rendelés!$H$66+X19*Rendelés!$H$67","v":0},{"$f":"(Y15-Y19)*Rendelés!$H$64+(Y16-Y19)*Rendelés!$H$65+MAX(0,Y17-Y19)*Rendelés!$H$66+MAX(0, Y18-Y19)*Rendelés!$H$66+Y19*Rendelés!$H$67","v":0},{"$f":"(Z15-Z19)*Rendelés!$H$64+(Z16-Z19)*Rendelés!$H$65+MAX(0,Z17-Z19)*Rendelés!$H$66+MAX(0, Z18-Z19)*Rendelés!$H$66+Z19*Rendelés!$H$67","v":0},{"$f":"(AA15-AA19)*Rendelés!$H$64+(AA16-AA19)*Rendelés!$H$65+MAX(0,AA17-AA19)*Rendelés!$H$66+MAX(0, AA18-AA19)*Rendelés!$H$66+AA19*Rendelés!$H$67","v":0},{"$f":"(AB15-AB19)*Rendelés!$H$64+(AB16-AB19)*Rendelés!$H$65+MAX(0,AB17-AB19)*Rendelés!$H$66+MAX(0, AB18-AB19)*Rendelés!$H$66+AB19*Rendelés!$H$67","v":0},{"$f":"(AC15-AC19)*Rendelés!$H$64+(AC16-AC19)*Rendelés!$H$65+MAX(0,AC17-AC19)*Rendelés!$H$66+MAX(0, AC18-AC19)*Rendelés!$H$66+AC19*Rendelés!$H$67","v":0},{"$f":"(AD15-AD19)*Rendelés!$H$64+(AD16-AD19)*Rendelés!$H$65+MAX(0,AD17-AD19)*Rendelés!$H$66+MAX(0, AD18-AD19)*Rendelés!$H$66+AD19*Rendelés!$H$67","v":0},{"$f":"(AE15-AE19)*Rendelés!$H$64+(AE16-AE19)*Rendelés!$H$65+MAX(0,AE17-AE19)*Rendelés!$H$66+MAX(0, AE18-AE19)*Rendelés!$H$66+AE19*Rendelés!$H$67","v":13},{"$f":"(AF15-AF19)*Rendelés!$H$64+(AF16-AF19)*Rendelés!$H$65+MAX(0,AF17-AF19)*Rendelés!$H$66+MAX(0, AF18-AF19)*Rendelés!$H$66+AF19*Rendelés!$H$67","v":0},{"$f":"(AG15-AG19)*Rendelés!$H$64+(AG16-AG19)*Rendelés!$H$65+MAX(0,AG17-AG19)*Rendelés!$H$66+MAX(0, AG18-AG19)*Rendelés!$H$66+AG19*Rendelés!$H$67","v":13},{"$f":"(AH15-AH19)*Rendelés!$H$64+(AH16-AH19)*Rendelés!$H$65+MAX(0,AH17-AH19)*Rendelés!$H$66+MAX(0, AH18-AH19)*Rendelés!$H$66+AH19*Rendelés!$H$67","v":13},{"$f":"(AI15-AI19)*Rendelés!$H$64+(AI16-AI19)*Rendelés!$H$65+MAX(0,AI17-AI19)*Rendelés!$H$66+MAX(0, AI18-AI19)*Rendelés!$H$66+AI19*Rendelés!$H$67","v":13},{"$f":"(AJ15-AJ19)*Rendelés!$H$64+(AJ16-AJ19)*Rendelés!$H$65+MAX(0,AJ17-AJ19)*Rendelés!$H$66+MAX(0, AJ18-AJ19)*Rendelés!$H$66+AJ19*Rendelés!$H$67","v":13}]
["Fizetett:",{"$f":"SUM(C21:AY21)","v":0}]
[]
[]
[]
[]
["Szerda"]
["Leves",null,{"$f":"SUM(Rendelés!C27:C30)","v":1},{"$f":"SUM(Rendelés!D27:D30)","v":0},{"$f":"SUM(Rendelés!E27:E30)","v":1},{"$f":"SUM(Rendelés!F27:F30)","v":0},{"$f":"SUM(Rendelés!G27:G30)","v":0},{"$f":"SUM(Rendelés!H27:H30)","v":0},{"$f":"SUM(Rendelés!I27:I30)","v":1},{"$f":"SUM(Rendelés!J27:J30)","v":1},{"$f":"SUM(Rendelés!K27:K30)","v":0},{"$f":"SUM(Rendelés!L27:L30)","v":1},{"$f":"SUM(Rendelés!M27:M30)","v":0},{"$f":"SUM(Rendelés!N27:N30)","v":0},{"$f":"SUM(Rendelés!O27:O30)","v":0},{"$f":"SUM(Rendelés!P27:P30)","v":0},{"$f":"SUM(Rendelés!Q27:Q30)","v":0},{"$f":"SUM(Rendelés!R27:R30)","v":0},{"$f":"SUM(Rendelés!S27:S30)","v":0},{"$f":"SUM(Rendelés!T27:T30)","v":0},{"$f":"SUM(Rendelés!U27:U30)","v":0},{"$f":"SUM(Rendelés!V27:V30)","v":0},{"$f":"SUM(Rendelés!W27:W30)","v":0},{"$f":"SUM(Rendelés!X27:X30)","v":0},{"$f":"SUM(Rendelés!Y27:Y30)","v":0},{"$f":"SUM(Rendelés!Z27:Z30)","v":1},{"$f":"SUM(Rendelés!AA27:AA30)","v":0},{"$f":"SUM(Rendelés!AB27:AB30)","v":0},{"$f":"SUM(Rendelés!AC27:AC30)","v":0},{"$f":"SUM(Rendelés!AD27:AD30)","v":0},{"$f":"SUM(Rendelés!AE27:AE30)","v":1},{"$f":"SUM(Rendelés!AF27:AF30)","v":0},{"$f":"SUM(Rendelés!AG27:AG30)","v":1},{"$f":"SUM(Rendelés!AH27:AH30)","v":1},{"$f":"SUM(Rendelés!AI27:AI30)","v":1},{"$f":"SUM(Rendelés!AJ27:AJ30)","v":1}]
["Masodik",null,{"$f":"SUM(Rendelés!C31:C34)","v":1},{"$f":"SUM(Rendelés!D31:D34)","v":0},{"$f":"SUM(Rendelés!E31:E34)","v":1},{"$f":"SUM(Rendelés!F31:F34)","v":0},{"$f":"SUM(Rendelés!G31:G34)","v":0},{"$f":"SUM(Rendelés!H31:H34)","v":0},{"$f":"SUM(Rendelés!I31:I34)","v":1},{"$f":"SUM(Rendelés!J31:J34)","v":1},{"$f":"SUM(Rendelés!K31:K34)","v":0},{"$f":"SUM(Rendelés!L31:L34)","v":1},{"$f":"SUM(Rendelés!M31:M34)","v":0},{"$f":"SUM(Rendelés!N31:N34)","v":1},{"$f":"SUM(Rendelés!O31:O34)","v":0},{"$f":"SUM(Rendelés!P31:P34)","v":0},{"$f":"SUM(Rendelés!Q31:Q34)","v":0},{"$f":"SUM(Rendelés!R31:R34)","v":0},{"$f":"SUM(Rendelés!S31:S34)","v":0},{"$f":"SUM(Rendelés!T31:T34)","v":0},{"$f":"SUM(Rendelés!U31:U34)","v":0},{"$f":"SUM(Rendelés!V31:V34)","v":0},{"$f":"SUM(Rendelés!W31:W34)","v":0},{"$f":"SUM(Rendelés!X31:X34)","v":0},{"$f":"SUM(Rendelés!Y31:Y34)","v":0},{"$f":"SUM(Rendelés!Z31:Z34)","v":1},{"$f":"SUM(Rendelés!AA31:AA34)","v":0},{"$f":"SUM(Rendelés!AB31:AB34)","v":0},{"$f":"SUM(Rendelés!AC31:AC34)","v":0},{"$f":"SUM(Rendelés!AD31:AD34)","v":0},{"$f":"SUM(Rendelés!AE31:AE34)","v":1},{"$f":"SUM(Rendelés!AF31:AF34)","v":0},{"$f":"SUM(Rendelés!AG31:AG34)","v":1},{"$f":"SUM(Rendelés!AH31:AH34)","v":1},{"$f":"SUM(Rendelés!AI31:AI34)","v":1},{"$f":"SUM(Rendelés!AJ31:AJ34)","v":1}]
["Salata",null,{"$f":"SUM(Rendelés!C35:'Rendelés'!C36)","v":1},{"$f":"SUM(Rendelés!D35:'Rendelés'!D36)","v":0},{"$f":"SUM(Rendelés!E35:'Rendelés'!E36)","v":1},{"$f":"SUM(Rendelés!F35:'Rendelés'!F36)","v":0},{"$f":"SUM(Rendelés!G35:'Rendelés'!G36)","v":0},{"$f":"SUM(Rendelés!H35:'Rendelés'!H36)","v":0},{"$f":"SUM(Rendelés!I35:'Rendelés'!I36)","v":1},{"$f":"SUM(Rendelés!J35:'Rendelés'!J36)","v":1},{"$f":"SUM(Rendelés!K35:'Rendelés'!K36)","v":0},{"$f":"SUM(Rendelés!L35:'Rendelés'!L36)","v":1},{"$f":"SUM(Rendelés!M35:'Rendelés'!M36)","v":0},{"$f":"SUM(Rendelés!N35:'Rendelés'!N36)","v":0},{"$f":"SUM(Rendelés!O35:'Rendelés'!O36)","v":0},{"$f":"SUM(Rendelés!P35:'Rendelés'!P36)","v":0},{"$f":"SUM(Rendelés!Q35:'Rendelés'!Q36)","v":0},{"$f":"SUM(Rendelés!R35:'Rendelés'!R36)","v":0},{"$f":"SUM(Rendelés!S35:'Rendelés'!S36)","v":0},{"$f":"SUM(Rendelés!T35:'Rendelés'!T36)","v":0},{"$f":"SUM(Rendelés!U35:'Rendelés'!U36)","v":0},{"$f":"SUM(Rendelés!V35:'Rendelés'!V36)","v":0},{"$f":"SUM(Rendelés!W35:'Rendelés'!W36)","v":0},{"$f":"SUM(Rendelés!X35:'Rendelés'!X36)","v":0},{"$f":"SUM(Rendelés!Y35:'Rendelés'!Y36)","v":0},{"$f":"SUM(Rendelés!Z35:'Rendelés'!Z36)","v":1},{"$f":"SUM(Rendelés!AA35:'Rendelés'!AA36)","v":0},{"$f":"SUM(Rendelés!AB35:'Rendelés'!AB36)","v":0},{"$f":"SUM(Rendelés!AC35:'Rendelés'!AC36)","v":0},{"$f":"SUM(Rendelés!AD35:'Rendelés'!AD36)","v":0},{"$f":"SUM(Rendelés!AE35:'Rendelés'!AE36)","v":1},{"$f":"SUM(Rendelés!AF35:'Rendelés'!AF36)","v":0},{"$f":"SUM(Rendelés!AG35:'Rendelés'!AG36)","v":1},{"$f":"SUM(Rendelés!AH35:'Rendelés'!AH36)","v":1},{"$f":"SUM(Rendelés!AI35:'Rendelés'!AI36)","v":1},{"$f":"SUM(Rendelés!AJ35:'Rendelés'!AJ36)","v":1}]
["Desszert",null,{"$f":"SUM(Rendelés!C37)","v":1},{"$f":"SUM(Rendelés!D37)","v":0},{"$f":"SUM(Rendelés!E37)","v":1},{"$f":"SUM(Rendelés!F37)","v":0},{"$f":"SUM(Rendelés!G37)","v":0},{"$f":"SUM(Rendelés!H37)","v":0},{"$f":"SUM(Rendelés!I37)","v":1},{"$f":"SUM(Rendelés!J37)","v":1},{"$f":"SUM(Rendelés!K37)","v":0},{"$f":"SUM(Rendelés!L37)","v":1},{"$f":"SUM(Rendelés!M37)","v":0},{"$f":"SUM(Rendelés!N37)","v":1},{"$f":"SUM(Rendelés!O37)","v":0},{"$f":"SUM(Rendelés!P37)","v":0},{"$f":"SUM(Rendelés!Q37)","v":0},{"$f":"SUM(Rendelés!R37)","v":0},{"$f":"SUM(Rendelés!S37)","v":0},{"$f":"SUM(Rendelés!T37)","v":0},{"$f":"SUM(Rendelés!U37)","v":0},{"$f":"SUM(Rendelés!V37)","v":0},{"$f":"SUM(Rendelés!W37)","v":0},{"$f":"SUM(Rendelés!X37)","v":0},{"$f":"SUM(Rendelés!Y37)","v":0},{"$f":"SUM(Rendelés!Z37)","v":1},{"$f":"SUM(Rendelés!AA37)","v":0},{"$f":"SUM(Rendelés!AB37)","v":0},{"$f":"SUM(Rendelés!AC37)","v":0},{"$f":"SUM(Rendelés!AD37)","v":0},{"$f":"SUM(Rendelés!AE37)","v":1},{"$f":"SUM(Rendelés!AF37)","v":0},{"$f":"SUM(Rendelés!AG37)","v":1},{"$f":"SUM(Rendelés!AH37)","v":1},{"$f":"SUM(Rendelés!AI37)","v":1},{"$f":"SUM(Rendelés!AJ37)","v":2}]
["Ebbol menu:",{"$f":"SUM(C31:AK31)","v":11},{"$f":"MIN(C27:C28)","v":1},0,1,0,0,0,1,1,0,1,{"$f":"MIN(M27:M28)","v":0},{"$f":"MIN(N27:N28)","v":0},0,0,{"$f":"MIN(Q27:Q28)","v":0},0,0,0,0,0,0,0,0,1,0,0,{"$f":"MIN(AC27:AC28)","v":0},0,{"$f":"MIN(AE27:AE28)","v":1},{"$f":"MIN(AF27:AF28)","v":0},{"$f":"MIN(AG27:AG28)","v":1},{"$f":"MIN(AH27:AH28)","v":1},1,1]
["Osszeg:",{"$f":"SUM(C32:AY32)","v":155},{"$f":"(C27-C31)*Rendelés!$H$64+(C28-C31)*Rendelés!$H$65+MAX(0,C29-C31)*Rendelés!$H$66+MAX(0, C30-C31)*Rendelés!$H$66+C31*Rendelés!$H$67","v":13},{"$f":"(D27-D31)*Rendelés!$H$64+(D28-D31)*Rendelés!$H$65+MAX(0,D29-D31)*Rendelés!$H$66+MAX(0, D30-D31)*Rendelés!$H$66+D31*Rendelés!$H$67","v":0},{"$f":"(E27-E31)*Rendelés!$H$64+(E28-E31)*Rendelés!$H$65+MAX(0,E29-E31)*Rendelés!$H$66+MAX(0, E30-E31)*Rendelés!$H$66+E31*Rendelés!$H$67","v":13},{"$f":"(F27-F31)*Rendelés!$H$64+(F28-F31)*Rendelés!$H$65+MAX(0,F29-F31)*Rendelés!$H$66+MAX(0, F30-F31)*Rendelés!$H$66+F31*Rendelés!$H$67","v":0},{"$f":"(G27-G31)*Rendelés!$H$64+(G28-G31)*Rendelés!$H$65+MAX(0,G29-G31)*Rendelés!$H$66+MAX(0, G30-G31)*Rendelés!$H$66+G31*Rendelés!$H$67","v":0},{"$f":"(H27-H31)*Rendelés!$H$64+(H28-H31)*Rendelés!$H$65+MAX(0,H29-H31)*Rendelés!$H$66+MAX(0, H30-H31)*Rendelés!$H$66+H31*Rendelés!$H$67","v":0},{"$f":"(I27-I31)*Rendelés!$H$64+(I28-I31)*Rendelés!$H$65+MAX(0,I29-I31)*Rendelés!$H$66+MAX(0, I30-I31)*Rendelés!$H$66+I31*Rendelés!$H$67","v":13},{"$f":"(J27-J31)*Rendelés!$H$64+(J28-J31)*Rendelés!$H$65+MAX(0,J29-J31)*Rendelés!$H$66+MAX(0, J30-J31)*Rendelés!$H$66+J31*Rendelés!$H$67","v":13},{"$f":"(K27-K31)*Rendelés!$H$64+(K28-K31)*Rendelés!$H$65+MAX(0,K29-K31)*Rendelés!$H$66+MAX(0, K30-K31)*Rendelés!$H$66+K31*Rendelés!$H$67","v":0},{"$f":"(L27-L31)*Rendelés!$H$64+(L28-L31)*Rendelés!$H$65+MAX(0,L29-L31)*Rendelés!$H$66+MAX(0, L30-L31)*Rendelés!$H$66+L31*Rendelés!$H$67","v":13},{"$f":"(M27-M31)*Rendelés!$H$64+(M28-M31)*Rendelés!$H$65+MAX(0,M29-M31)*Rendelés!$H$66+MAX(0, M30-M31)*Rendelés!$H$66+M31*Rendelés!$H$67","v":0},{"$f":"(N27-N31)*Rendelés!$H$64+(N28-N31)*Rendelés!$H$65+MAX(0,N29-N31)*Rendelés!$H$66+MAX(0, N30-N31)*Rendelés!$H$66+N31*Rendelés!$H$67","v":10},{"$f":"(O27-O31)*Rendelés!$H$64+(O28-O31)*Rendelés!$H$65+MAX(0,O29-O31)*Rendelés!$H$66+MAX(0, O30-O31)*Rendelés!$H$66+O31*Rendelés!$H$67","v":0},{"$f":"(P27-P31)*Rendelés!$H$64+(P28-P31)*Rendelés!$H$65+MAX(0,P29-P31)*Rendelés!$H$66+MAX(0, P30-P31)*Rendelés!$H$66+P31*Rendelés!$H$67","v":0},{"$f":"(Q27-Q31)*Rendelés!$H$64+(Q28-Q31)*Rendelés!$H$65+MAX(0,Q29-Q31)*Rendelés!$H$66+MAX(0, Q30-Q31)*Rendelés!$H$66+Q31*Rendelés!$H$67","v":0},{"$f":"(R27-R31)*Rendelés!$H$64+(R28-R31)*Rendelés!$H$65+MAX(0,R29-R31)*Rendelés!$H$66+MAX(0, R30-R31)*Rendelés!$H$66+R31*Rendelés!$H$67","v":0},{"$f":"(S27-S31)*Rendelés!$H$64+(S28-S31)*Rendelés!$H$65+MAX(0,S29-S31)*Rendelés!$H$66+MAX(0, S30-S31)*Rendelés!$H$66+S31*Rendelés!$H$67","v":0},{"$f":"(T27-T31)*Rendelés!$H$64+(T28-T31)*Rendelés!$H$65+MAX(0,T29-T31)*Rendelés!$H$66+MAX(0, T30-T31)*Rendelés!$H$66+T31*Rendelés!$H$67","v":0},{"$f":"(U27-U31)*Rendelés!$H$64+(U28-U31)*Rendelés!$H$65+MAX(0,U29-U31)*Rendelés!$H$66+MAX(0, U30-U31)*Rendelés!$H$66+U31*Rendelés!$H$67","v":0},{"$f":"(V27-V31)*Rendelés!$H$64+(V28-V31)*Rendelés!$H$65+MAX(0,V29-V31)*Rendelés!$H$66+MAX(0, V30-V31)*Rendelés!$H$66+V31*Rendelés!$H$67","v":0},{"$f":"(W27-W31)*Rendelés!$H$64+(W28-W31)*Rendelés!$H$65+MAX(0,W29-W31)*Rendelés!$H$66+MAX(0, W30-W31)*Rendelés!$H$66+W31*Rendelés!$H$67","v":0},{"$f":"(X27-X31)*Rendelés!$H$64+(X28-X31)*Rendelés!$H$65+MAX(0,X29-X31)*Rendelés!$H$66+MAX(0, X30-X31)*Rendelés!$H$66+X31*Rendelés!$H$67","v":0},{"$f":"(Y27-Y31)*Rendelés!$H$64+(Y28-Y31)*Rendelés!$H$65+MAX(0,Y29-Y31)*Rendelés!$H$66+MAX(0, Y30-Y31)*Rendelés!$H$66+Y31*Rendelés!$H$67","v":0},{"$f":"(Z27-Z31)*Rendelés!$H$64+(Z28-Z31)*Rendelés!$H$65+MAX(0,Z29-Z31)*Rendelés!$H$66+MAX(0, Z30-Z31)*Rendelés!$H$66+Z31*Rendelés!$H$67","v":13},{"$f":"(AA27-AA31)*Rendelés!$H$64+(AA28-AA31)*Rendelés!$H$65+MAX(0,AA29-AA31)*Rendelés!$H$66+MAX(0, AA30-AA31)*Rendelés!$H$66+AA31*Rendelés!$H$67","v":0},{"$f":"(AB27-AB31)*Rendelés!$H$64+(AB28-AB31)*Rendelés!$H$65+MAX(0,AB29-AB31)*Rendelés!$H$66+MAX(0, AB30-AB31)*Rendelés!$H$66+AB31*Rendelés!$H$67","v":0},{"$f":"(AC27-AC31)*Rendelés!$H$64+(AC28-AC31)*Rendelés!$H$65+MAX(0,AC29-AC31)*Rendelés!$H$66+MAX(0, AC30-AC31)*Rendelés!$H$66+AC31*Rendelés!$H$67","v":0},{"$f":"(AD27-AD31)*Rendelés!$H$64+(AD28-AD31)*Rendelés!$H$65+MAX(0,AD29-AD31)*Rendelés!$H$66+MAX(0, AD30-AD31)*Rendelés!$H$66+AD31*Rendelés!$H$67","v":0},{"$f":"(AE27-AE31)*Rendelés!$H$64+(AE28-AE31)*Rendelés!$H$65+MAX(0,AE29-AE31)*Rendelés!$H$66+MAX(0, AE30-AE31)*Rendelés!$H$66+AE31*Rendelés!$H$67","v":13},{"$f":"(AF27-AF31)*Rendelés!$H$64+(AF28-AF31)*Rendelés!$H$65+MAX(0,AF29-AF31)*Rendelés!$H$66+MAX(0, AF30-AF31)*Rendelés!$H$66+AF31*Rendelés!$H$67","v":0},{"$f":"(AG27-AG31)*Rendelés!$H$64+(AG28-AG31)*Rendelés!$H$65+MAX(0,AG29-AG31)*Rendelés!$H$66+MAX(0, AG30-AG31)*Rendelés!$H$66+AG31*Rendelés!$H$67","v":13},{"$f":"(AH27-AH31)*Rendelés!$H$64+(AH28-AH31)*Rendelés!$H$65+MAX(0,AH29-AH31)*Rendelés!$H$66+MAX(0, AH30-AH31)*Rendelés!$H$66+AH31*Rendelés!$H$67","v":13},{"$f":"(AI27-AI31)*Rendelés!$H$64+(AI28-AI31)*Rendelés!$H$65+MAX(0,AI29-AI31)*Rendelés!$H$66+MAX(0, AI30-AI31)*Rendelés!$H$66+AI31*Rendelés!$H$67","v":13},{"$f":"(AJ27-AJ31)*Rendelés!$H$64+(AJ28-AJ31)*Rendelés!$H$65+MAX(0,AJ29-AJ31)*Rendelés!$H$66+MAX(0, AJ30-AJ31)*Rendelés!$H$66+AJ31*Rendelés!$H$67","v":15}]
["Fizetett:",{"$f":"SUM(C33:AY33)","v":0}]
[]
[]
[]
[]
["Csütörtök"]
["Leves",null,{"$f":"SUM(Rendelés!C39:C42)","v":1},{"$f":"SUM(Rendelés!D39:D42)","v":0},{"$f":"SUM(Rendelés!E39:E42)","v":1},{"$f":"SUM(Rendelés!F39:F42)","v":0},{"$f":"SUM(Rendelés!G39:G42)","v":0},{"$f":"SUM(Rendelés!H39:H42)","v":0},{"$f":"SUM(Rendelés!I39:I42)","v":1},{"$f":"SUM(Rendelés!J39:J42)","v":1},{"$f":"SUM(Rendelés!K39:K42)","v":1},{"$f":"SUM(Rendelés!L39:L42)","v":1},{"$f":"SUM(Rendelés!M39:M42)","v":0},{"$f":"SUM(Rendelés!N39:N42)","v":0},{"$f":"SUM(Rendelés!O39:O42)","v":0},{"$f":"SUM(Rendelés!P39:P42)","v":1},{"$f":"SUM(Rendelés!Q39:Q42)","v":0},{"$f":"SUM(Rendelés!R39:R42)","v":0},{"$f":"SUM(Rendelés!S39:S42)","v":0},{"$f":"SUM(Rendelés!T39:T42)","v":0},{"$f":"SUM(Rendelés!U39:U42)","v":0},{"$f":"SUM(Rendelés!V39:V42)","v":0},{"$f":"SUM(Rendelés!W39:W42)","v":1},{"$f":"SUM(Rendelés!X39:X42)","v":0},{"$f":"SUM(Rendelés!Y39:Y42)","v":0},{"$f":"SUM(Rendelés!Z39:Z42)","v":2},{"$f":"SUM(Rendelés!AA39:AA42)","v":0},{"$f":"SUM(Rendelés!AB39:AB42)","v":0},{"$f":"SUM(Rendelés!AC39:AC42)","v":0},{"$f":"SUM(Rendelés!AD39:AD42)","v":0},{"$f":"SUM(Rendelés!AE39:AE42)","v":0},{"$f":"SUM(Rendelés!AF39:AF42)","v":0},{"$f":"SUM(Rendelés!AG39:AG42)","v":0},{"$f":"SUM(Rendelés!AH39:AH42)","v":1},{"$f":"SUM(Rendelés!AI39:AI42)","v":0},{"$f":"SUM(Rendelés!AJ39:AJ42)","v":1}]
["Masodik",null,{"$f":"SUM(Rendelés!C43:C46)","v":1},{"$f":"SUM(Rendelés!D43:D46)","v":0},{"$f":"SUM(Rendelés!E43:E46)","v":1},{"$f":"SUM(Rendelés!F43:F46)","v":0},{"$f":"SUM(Rendelés!G43:G46)","v":0},{"$f":"SUM(Rendelés!H43:H46)","v":0},{"$f":"SUM(Rendelés!I43:I46)","v":1},{"$f":"SUM(Rendelés!J43:J46)","v":1},{"$f":"SUM(Rendelés!K39:K42)","v":1},{"$f":"SUM(Rendelés!L43:L46)","v":1},{"$f":"SUM(Rendelés!M43:M46)","v":0},{"$f":"SUM(Rendelés!N43:N46)","v":0},{"$f":"SUM(Rendelés!O43:O46)","v":0},{"$f":"SUM(Rendelés!P43:P46)","v":1},{"$f":"SUM(Rendelés!Q43:Q46)","v":0},{"$f":"SUM(Rendelés!R43:R46)","v":0},{"$f":"SUM(Rendelés!S43:S46)","v":0},{"$f":"SUM(Rendelés!T43:T46)","v":0},{"$f":"SUM(Rendelés!U43:U46)","v":0},{"$f":"SUM(Rendelés!V43:V46)","v":0},{"$f":"SUM(Rendelés!W43:W46)","v":0},{"$f":"SUM(Rendelés!X43:X46)","v":0},{"$f":"SUM(Rendelés!Y43:Y46)","v":0},{"$f":"SUM(Rendelés!Z43:Z46)","v":2},{"$f":"SUM(Rendelés!AA43:AA46)","v":0},{"$f":"SUM(Rendelés!AB43:AB46)","v":0},{"$f":"SUM(Rendelés!AC43:AC46)","v":0},{"$f":"SUM(Rendelés!AD43:AD46)","v":0},{"$f":"SUM(Rendelés!AE43:AE46)","v":0},{"$f":"SUM(Rendelés!AF43:AF46)","v":0},{"$f":"SUM(Rendelés!AG43:AG46)","v":0},{"$f":"SUM(Rendelés!AH43:AH46)","v":1},{"$f":"SUM(Rendelés!AI43:AI46)","v":0},{"$f":"SUM(Rendelés!AJ43:AJ46)","v":1}]
["Salata",null,{"$f":"SUM(Rendelés!C47:'Rendelés'!C48)","v":1},{"$f":"SUM(Rendelés!D47:'Rendelés'!D48)","v":0},{"$f":"SUM(Rendelés!E47:'Rendelés'!E48)","v":1},{"$f":"SUM(Rendelés!F47:'Rendelés'!F48)","v":0},{"$f":"SUM(Rendelés!G47:'Rendelés'!G48)","v":0},{"$f":"SUM(Rendelés!H47:'Rendelés'!H48)","v":0},{"$f":"SUM(Rendelés!I47:'Rendelés'!I48)","v":1},{"$f":"SUM(Rendelés!J47:'Rendelés'!J48)","v":1},{"$f":"SUM(Rendelés!K47:'Rendelés'!K48)","v":1},{"$f":"SUM(Rendelés!L47:'Rendelés'!L48)","v":1},{"$f":"SUM(Rendelés!M47:'Rendelés'!M48)","v":0},{"$f":"SUM(Rendelés!N47:'Rendelés'!N48)","v":0},{"$f":"SUM(Rendelés!O47:'Rendelés'!O48)","v":0},{"$f":"SUM(Rendelés!P47:'Rendelés'!P48)","v":1},{"$f":"SUM(Rendelés!Q47:'Rendelés'!Q48)","v":0},{"$f":"SUM(Rendelés!R47:'Rendelés'!R48)","v":0},{"$f":"SUM(Rendelés!S47:'Rendelés'!S48)","v":0},{"$f":"SUM(Rendelés!T47:'Rendelés'!T48)","v":0},{"$f":"SUM(Rendelés!U47:'Rendelés'!U48)","v":0},{"$f":"SUM(Rendelés!V47:'Rendelés'!V48)","v":0},{"$f":"SUM(Rendelés!W47:'Rendelés'!W48)","v":0},{"$f":"SUM(Rendelés!X47:'Rendelés'!X48)","v":0},{"$f":"SUM(Rendelés!Y47:'Rendelés'!Y48)","v":0},{"$f":"SUM(Rendelés!Z47:'Rendelés'!Z48)","v":2},{"$f":"SUM(Rendelés!AA47:'Rendelés'!AA48)","v":0},{"$f":"SUM(Rendelés!AB47:'Rendelés'!AB48)","v":0},{"$f":"SUM(Rendelés!AC47:'Rendelés'!AC48)","v":0},{"$f":"SUM(Rendelés!AD47:'Rendelés'!AD48)","v":0},{"$f":"SUM(Rendelés!AE47:'Rendelés'!AE48)","v":0},{"$f":"SUM(Rendelés!AF47:'Rendelés'!AF48)","v":0},{"$f":"SUM(Rendelés!AG47:'Rendelés'!AG48)","v":0},{"$f":"SUM(Rendelés!AH47:'Rendelés'!AH48)","v":1},{"$f":"SUM(Rendelés!AI47:'Rendelés'!AI48)","v":0},{"$f":"SUM(Rendelés!AJ47:'Rendelés'!AJ48)","v":1}]
["Desszert",null,{"$f":"SUM(Rendelés!C49)","v":1},{"$f":"SUM(Rendelés!D49)","v":0},{"$f":"SUM(Rendelés!E49)","v":1},{"$f":"SUM(Rendelés!F49)","v":0},{"$f":"SUM(Rendelés!G49)","v":0},{"$f":"SUM(Rendelés!H49)","v":0},{"$f":"SUM(Rendelés!I49)","v":1},{"$f":"SUM(Rendelés!J49)","v":1},{"$f":"SUM(Rendelés!K49)","v":1},{"$f":"SUM(Rendelés!L49)","v":1},{"$f":"SUM(Rendelés!M49)","v":0},{"$f":"SUM(Rendelés!N49)","v":0},{"$f":"SUM(Rendelés!O49)","v":0},{"$f":"SUM(Rendelés!P49)","v":1},{"$f":"SUM(Rendelés!Q49)","v":0},{"$f":"SUM(Rendelés!R49)","v":0},{"$f":"SUM(Rendelés!S49)","v":0},{"$f":"SUM(Rendelés!T49)","v":0},{"$f":"SUM(Rendelés!U49)","v":0},{"$f":"SUM(Rendelés!V49)","v":0},{"$f":"SUM(Rendelés!W49)","v":0},{"$f":"SUM(Rendelés!X49)","v":0},{"$f":"SUM(Rendelés!Y49)","v":0},{"$f":"SUM(Rendelés!Z49)","v":2},{"$f":"SUM(Rendelés!AA49)","v":0},{"$f":"SUM(Rendelés!AB49)","v":0},{"$f":"SUM(Rendelés!AC49)","v":0},{"$f":"SUM(Rendelés!AD49)","v":0},{"$f":"SUM(Rendelés!AE49)","v":0},{"$f":"SUM(Rendelés!AF49)","v":0},{"$f":"SUM(Rendelés!AG49)","v":0},{"$f":"SUM(Rendelés!AH49)","v":1},{"$f":"SUM(Rendelés!AI49)","v":0},{"$f":"SUM(Rendelés!AJ49)","v":1}]
["Ebbol menu:",{"$f":"SUM(C43:AK43)","v":11},{"$f":"MIN(C39:C40)","v":1},0,1,0,0,0,1,1,1,{"$f":"MIN(L39:L40)","v":1},0,0,0,1,{"$f":"MIN(Q39:Q40)","v":0},0,0,0,0,0,0,0,0,{"$f":"MIN(Z39:Z40)","v":2},{"$f":"MIN(AA39:AA40)","v":0},{"$f":"MIN(AB39:AB40)","v":0},{"$f":"MIN(AC39:AC40)","v":0},0,{"$f":"MIN(AE39:AE40)","v":0},{"$f":"MIN(AF39:AF40)","v":0},{"$f":"MIN(AG39:AG40)","v":0},{"$f":"MIN(AH39:AH40)","v":1},0,1]
["Osszeg:",{"$f":"SUM(C44:AY44)","v":148},{"$f":"(C39-C43)*Rendelés!$H$64+(C40-C43)*Rendelés!$H$65+MAX(0,C41-C43)*Rendelés!$H$66+MAX(0, C42-C43)*Rendelés!$H$66+C43*Rendelés!$H$67","v":13},{"$f":"(D39-D43)*Rendelés!$H$64+(D40-D43)*Rendelés!$H$65+MAX(0,D41-D43)*Rendelés!$H$66+MAX(0, D42-D43)*Rendelés!$H$66+D43*Rendelés!$H$67","v":0},{"$f":"(E39-E43)*Rendelés!$H$64+(E40-E43)*Rendelés!$H$65+MAX(0,E41-E43)*Rendelés!$H$66+MAX(0, E42-E43)*Rendelés!$H$66+E43*Rendelés!$H$67","v":13},{"$f":"(F39-F43)*Rendelés!$H$64+(F40-F43)*Rendelés!$H$65+MAX(0,F41-F43)*Rendelés!$H$66+MAX(0, F42-F43)*Rendelés!$H$66+F43*Rendelés!$H$67","v":0},{"$f":"(G39-G43)*Rendelés!$H$64+(G40-G43)*Rendelés!$H$65+MAX(0,G41-G43)*Rendelés!$H$66+MAX(0, G42-G43)*Rendelés!$H$66+G43*Rendelés!$H$67","v":0},{"$f":"(H39-H43)*Rendelés!$H$64+(H40-H43)*Rendelés!$H$65+MAX(0,H41-H43)*Rendelés!$H$66+MAX(0, H42-H43)*Rendelés!$H$66+H43*Rendelés!$H$67","v":0},{"$f":"(I39-I43)*Rendelés!$H$64+(I40-I43)*Rendelés!$H$65+MAX(0,I41-I43)*Rendelés!$H$66+MAX(0, I42-I43)*Rendelés!$H$66+I43*Rendelés!$H$67","v":13},{"$f":"(J39-J43)*Rendelés!$H$64+(J40-J43)*Rendelés!$H$65+MAX(0,J41-J43)*Rendelés!$H$66+MAX(0, J42-J43)*Rendelés!$H$66+J43*Rendelés!$H$67","v":13},{"$f":"(K39-K43)*Rendelés!$H$64+(K40-K43)*Rendelés!$H$65+MAX(0,K41-K43)*Rendelés!$H$66+MAX(0, K42-K43)*Rendelés!$H$66+K43*Rendelés!$H$67","v":13},{"$f":"(L39-L43)*Rendelés!$H$64+(L40-L43)*Rendelés!$H$65+MAX(0,L41-L43)*Rendelés!$H$66+MAX(0, L42-L43)*Rendelés!$H$66+L43*Rendelés!$H$67","v":13},{"$f":"(M39-M43)*Rendelés!$H$64+(M40-M43)*Rendelés!$H$65+MAX(0,M41-M43)*Rendelés!$H$66+MAX(0, M42-M43)*Rendelés!$H$66+M43*Rendelés!$H$67","v":0},{"$f":"(N39-N43)*Rendelés!$H$64+(N40-N43)*Rendelés!$H$65+MAX(0,N41-N43)*Rendelés!$H$66+MAX(0, N42-N43)*Rendelés!$H$66+N43*Rendelés!$H$67","v":0},{"$f":"(O39-O43)*Rendelés!$H$64+(O40-O43)*Rendelés!$H$65+MAX(0,O41-O43)*Rendelés!$H$66+MAX(0, O42-O43)*Rendelés!$H$66+O43*Rendelés!$H$67","v":0},{"$f":"(P39-P43)*Rendelés!$H$64+(P40-P43)*Rendelés!$H$65+MAX(0,P41-P43)*Rendelés!$H$66+MAX(0, P42-P43)*Rendelés!$H$66+P43*Rendelés!$H$67","v":13},{"$f":"(Q39-Q43)*Rendelés!$H$64+(Q40-Q43)*Rendelés!$H$65+MAX(0,Q41-Q43)*Rendelés!$H$66+MAX(0, Q42-Q43)*Rendelés!$H$66+Q43*Rendelés!$H$67","v":0},{"$f":"(R39-R43)*Rendelés!$H$64+(R40-R43)*Rendelés!$H$65+MAX(0,R41-R43)*Rendelés!$H$66+MAX(0, R42-R43)*Rendelés!$H$66+R43*Rendelés!$H$67","v":0},{"$f":"(S39-S43)*Rendelés!$H$64+(S40-S43)*Rendelés!$H$65+MAX(0,S41-S43)*Rendelés!$H$66+MAX(0, S42-S43)*Rendelés!$H$66+S43*Rendelés!$H$67","v":0},{"$f":"(T39-T43)*Rendelés!$H$64+(T40-T43)*Rendelés!$H$65+MAX(0,T41-T43)*Rendelés!$H$66+MAX(0, T42-T43)*Rendelés!$H$66+T43*Rendelés!$H$67","v":0},{"$f":"(U39-U43)*Rendelés!$H$64+(U40-U43)*Rendelés!$H$65+MAX(0,U41-U43)*Rendelés!$H$66+MAX(0, U42-U43)*Rendelés!$H$66+U43*Rendelés!$H$67","v":0},{"$f":"(V39-V43)*Rendelés!$H$64+(V40-V43)*Rendelés!$H$65+MAX(0,V41-V43)*Rendelés!$H$66+MAX(0, V42-V43)*Rendelés!$H$66+V43*Rendelés!$H$67","v":0},{"$f":"(W39-W43)*Rendelés!$H$64+(W40-W43)*Rendelés!$H$65+MAX(0,W41-W43)*Rendelés!$H$66+MAX(0, W42-W43)*Rendelés!$H$66+W43*Rendelés!$H$67","v":5},{"$f":"(X39-X43)*Rendelés!$H$64+(X40-X43)*Rendelés!$H$65+MAX(0,X41-X43)*Rendelés!$H$66+MAX(0, X42-X43)*Rendelés!$H$66+X43*Rendelés!$H$67","v":0},{"$f":"(Y39-Y43)*Rendelés!$H$64+(Y40-Y43)*Rendelés!$H$65+MAX(0,Y41-Y43)*Rendelés!$H$66+MAX(0, Y42-Y43)*Rendelés!$H$66+Y43*Rendelés!$H$67","v":0},{"$f":"(Z39-Z43)*Rendelés!$H$64+(Z40-Z43)*Rendelés!$H$65+MAX(0,Z41-Z43)*Rendelés!$H$66+MAX(0, Z42-Z43)*Rendelés!$H$66+Z43*Rendelés!$H$67","v":26},{"$f":"(AA39-AA43)*Rendelés!$H$64+(AA40-AA43)*Rendelés!$H$65+MAX(0,AA41-AA43)*Rendelés!$H$66+MAX(0, AA42-AA43)*Rendelés!$H$66+AA43*Rendelés!$H$67","v":0},{"$f":"(AB39-AB43)*Rendelés!$H$64+(AB40-AB43)*Rendelés!$H$65+MAX(0,AB41-AB43)*Rendelés!$H$66+MAX(0, AB42-AB43)*Rendelés!$H$66+AB43*Rendelés!$H$67","v":0},{"$f":"(AC39-AC43)*Rendelés!$H$64+(AC40-AC43)*Rendelés!$H$65+MAX(0,AC41-AC43)*Rendelés!$H$66+MAX(0, AC42-AC43)*Rendelés!$H$66+AC43*Rendelés!$H$67","v":0},{"$f":"(AD39-AD43)*Rendelés!$H$64+(AD40-AD43)*Rendelés!$H$65+MAX(0,AD41-AD43)*Rendelés!$H$66+MAX(0, AD42-AD43)*Rendelés!$H$66+AD43*Rendelés!$H$67","v":0},{"$f":"(AE39-AE43)*Rendelés!$H$64+(AE40-AE43)*Rendelés!$H$65+MAX(0,AE41-AE43)*Rendelés!$H$66+MAX(0, AE42-AE43)*Rendelés!$H$66+AE43*Rendelés!$H$67","v":0},{"$f":"(AF39-AF43)*Rendelés!$H$64+(AF40-AF43)*Rendelés!$H$65+MAX(0,AF41-AF43)*Rendelés!$H$66+MAX(0, AF42-AF43)*Rendelés!$H$66+AF43*Rendelés!$H$67","v":0},{"$f":"(AG39-AG43)*Rendelés!$H$64+(AG40-AG43)*Rendelés!$H$65+MAX(0,AG41-AG43)*Rendelés!$H$66+MAX(0, AG42-AG43)*Rendelés!$H$66+AG43*Rendelés!$H$67","v":0},{"$f":"(AH39-AH43)*Rendelés!$H$64+(AH40-AH43)*Rendelés!$H$65+MAX(0,AH41-AH43)*Rendelés!$H$66+MAX(0, AH42-AH43)*Rendelés!$H$66+AH43*Rendelés!$H$67","v":13},{"$f":"(AI39-AI43)*Rendelés!$H$64+(AI40-AI43)*Rendelés!$H$65+MAX(0,AI41-AI43)*Rendelés!$H$66+MAX(0, AI42-AI43)*Rendelés!$H$66+AI43*Rendelés!$H$67","v":0},{"$f":"(AJ39-AJ43)*Rendelés!$H$64+(AJ40-AJ43)*Rendelés!$H$65+MAX(0,AJ41-AJ43)*Rendelés!$H$66+MAX(0, AJ42-AJ43)*Rendelés!$H$66+AJ43*Rendelés!$H$67","v":13}]
["Fizetett:",{"$f":"SUM(C45:AY45)","v":0}]
[]
[]
[]
[]
["Péntek"]
["Leves",null,{"$f":"SUM(Rendelés!C51:C54)","v":1},{"$f":"SUM(Rendelés!D51:D54)","v":0},{"$f":"SUM(Rendelés!E51:E54)","v":1},{"$f":"SUM(Rendelés!F51:F54)","v":0},{"$f":"SUM(Rendelés!G51:G54)","v":0},{"$f":"SUM(Rendelés!H51:H54)","v":0},{"$f":"SUM(Rendelés!I51:I54)","v":1},{"$f":"SUM(Rendelés!J51:J54)","v":1},{"$f":"SUM(Rendelés!K51:K54)","v":0},{"$f":"SUM(Rendelés!L51:L54)","v":1},{"$f":"SUM(Rendelés!M51:M54)","v":0},{"$f":"SUM(Rendelés!N51:N54)","v":0},{"$f":"SUM(Rendelés!O51:O54)","v":0},{"$f":"SUM(Rendelés!P51:P54)","v":0},{"$f":"SUM(Rendelés!Q51:Q54)","v":0},{"$f":"SUM(Rendelés!R51:R54)","v":0},{"$f":"SUM(Rendelés!S51:S54)","v":0},{"$f":"SUM(Rendelés!T51:T54)","v":0},{"$f":"SUM(Rendelés!U51:U54)","v":0},{"$f":"SUM(Rendelés!V51:V54)","v":0},{"$f":"SUM(Rendelés!W51:W54)","v":0},{"$f":"SUM(Rendelés!X51:X54)","v":0},{"$f":"SUM(Rendelés!Y51:Y54)","v":0},{"$f":"SUM(Rendelés!Z51:Z54)","v":2},{"$f":"SUM(Rendelés!AA51:AA54)","v":0},{"$f":"SUM(Rendelés!AB51:AB54)","v":0},{"$f":"SUM(Rendelés!AC51:AC54)","v":1},{"$f":"SUM(Rendelés!AD51:AD54)","v":0},{"$f":"SUM(Rendelés!AE51:AE54)","v":1},{"$f":"SUM(Rendelés!AF51:AF54)","v":0},{"$f":"SUM(Rendelés!AG51:AG54)","v":0},{"$f":"SUM(Rendelés!AH51:AH54)","v":0},{"$f":"SUM(Rendelés!AI51:AI54)","v":1},{"$f":"SUM(Rendelés!AJ51:AJ54)","v":1}]
["Masodik",null,{"$f":"SUM(Rendelés!C55:C58)","v":1},{"$f":"SUM(Rendelés!D55:D58)","v":0},{"$f":"SUM(Rendelés!E55:E58)","v":1},{"$f":"SUM(Rendelés!F55:F58)","v":1},{"$f":"SUM(Rendelés!G55:G58)","v":0},{"$f":"SUM(Rendelés!H55:H58)","v":0},{"$f":"SUM(Rendelés!I55:I58)","v":1},{"$f":"SUM(Rendelés!J55:J58)","v":1},{"$f":"SUM(Rendelés!K55:K58)","v":0},{"$f":"SUM(Rendelés!L55:L58)","v":1},{"$f":"SUM(Rendelés!M55:M58)","v":0},{"$f":"SUM(Rendelés!N55:N58)","v":0},{"$f":"SUM(Rendelés!O55:O58)","v":0},{"$f":"SUM(Rendelés!P55:P58)","v":0},{"$f":"SUM(Rendelés!Q55:Q58)","v":0},{"$f":"SUM(Rendelés!R55:R58)","v":0},{"$f":"SUM(Rendelés!S55:S58)","v":0},{"$f":"SUM(Rendelés!T55:T58)","v":0},{"$f":"SUM(Rendelés!U55:U58)","v":0},{"$f":"SUM(Rendelés!V55:V58)","v":0},{"$f":"SUM(Rendelés!W55:W58)","v":0},{"$f":"SUM(Rendelés!X55:X58)","v":0},{"$f":"SUM(Rendelés!Y55:Y58)","v":0},{"$f":"SUM(Rendelés!Z55:Z58)","v":2},{"$f":"SUM(Rendelés!AA55:AA58)","v":0},{"$f":"SUM(Rendelés!AB55:AB58)","v":0},{"$f":"SUM(Rendelés!AC55:AC58)","v":1},{"$f":"SUM(Rendelés!AD55:AD58)","v":0},{"$f":"SUM(Rendelés!AE55:AE58)","v":1},{"$f":"SUM(Rendelés!AF55:AF58)","v":0},{"$f":"SUM(Rendelés!AG55:AG58)","v":0},{"$f":"SUM(Rendelés!AH55:AH58)","v":0},{"$f":"SUM(Rendelés!AI55:AI58)","v":1},{"$f":"SUM(Rendelés!AJ55:AJ58)","v":1}]
["Salata",null,{"$f":"SUM(Rendelés!C59:'Rendelés'!C60)","v":1},{"$f":"SUM(Rendelés!D59:'Rendelés'!D60)","v":0},{"$f":"SUM(Rendelés!E59:'Rendelés'!E60)","v":1},{"$f":"SUM(Rendelés!F59:'Rendelés'!F60)","v":1},{"$f":"SUM(Rendelés!G59:'Rendelés'!G60)","v":0},{"$f":"SUM(Rendelés!H59:'Rendelés'!H60)","v":0},{"$f":"SUM(Rendelés!I59:'Rendelés'!I60)","v":1},{"$f":"SUM(Rendelés!J59:'Rendelés'!J60)","v":1},{"$f":"SUM(Rendelés!K59:'Rendelés'!K60)","v":0},{"$f":"SUM(Rendelés!L59:'Rendelés'!L60)","v":1},{"$f":"SUM(Rendelés!M59:'Rendelés'!M60)","v":0},{"$f":"SUM(Rendelés!N59:'Rendelés'!N60)","v":0},{"$f":"SUM(Rendelés!O59:'Rendelés'!O60)","v":0},{"$f":"SUM(Rendelés!P59:'Rendelés'!P60)","v":0},{"$f":"SUM(Rendelés!Q59:'Rendelés'!Q60)","v":0},{"$f":"SUM(Rendelés!R59:'Rendelés'!R60)","v":0},{"$f":"SUM(Rendelés!S59:'Rendelés'!S60)","v":0},{"$f":"SUM(Rendelés!T59:'Rendelés'!T60)","v":0},{"$f":"SUM(Rendelés!U59:'Rendelés'!U60)","v":0},{"$f":"SUM(Rendelés!V59:'Rendelés'!V60)","v":0},{"$f":"SUM(Rendelés!W59:'Rendelés'!W60)","v":0},{"$f":"SUM(Rendelés!X59:'Rendelés'!X60)","v":0},{"$f":"SUM(Rendelés!Y59:'Rendelés'!Y60)","v":0},{"$f":"SUM(Rendelés!Z59:'Rendelés'!Z60)","v":2},{"$f":"SUM(Rendelés!AA59:'Rendelés'!AA60)","v":0},{"$f":"SUM(Rendelés!AB59:'Rendelés'!AB60)","v":0},{"$f":"SUM(Rendelés!AC59:'Rendelés'!AC60)","v":1},{"$f":"SUM(Rendelés!AD59:'Rendelés'!AD60)","v":0},{"$f":"SUM(Rendelés!AE59:'Rendelés'!AE60)","v":1},{"$f":"SUM(Rendelés!AF59:'Rendelés'!AF60)","v":0},{"$f":"SUM(Rendelés!AG59:'Rendelés'!AG60)","v":1},{"$f":"SUM(Rendelés!AH59:'Rendelés'!AH60)","v":0},{"$f":"SUM(Rendelés!AI59:'Rendelés'!AI60)","v":0},{"$f":"SUM(Rendelés!AJ59:'Rendelés'!AJ60)","v":1}]
["Desszert",null,{"$f":"SUM(Rendelés!C61)","v":1},{"$f":"SUM(Rendelés!D61)","v":0},{"$f":"SUM(Rendelés!E61)","v":1},{"$f":"SUM(Rendelés!F61)","v":0},{"$f":"SUM(Rendelés!G61)","v":0},{"$f":"SUM(Rendelés!H61)","v":0},{"$f":"SUM(Rendelés!I61)","v":1},{"$f":"SUM(Rendelés!J61)","v":1},{"$f":"SUM(Rendelés!K61)","v":0},{"$f":"SUM(Rendelés!L61)","v":1},{"$f":"SUM(Rendelés!M61)","v":0},{"$f":"SUM(Rendelés!N61)","v":0},{"$f":"SUM(Rendelés!O61)","v":0},{"$f":"SUM(Rendelés!P61)","v":0},{"$f":"SUM(Rendelés!Q61)","v":0},{"$f":"SUM(Rendelés!R61)","v":0},{"$f":"SUM(Rendelés!S61)","v":0},{"$f":"SUM(Rendelés!T61)","v":0},{"$f":"SUM(Rendelés!U61)","v":0},{"$f":"SUM(Rendelés!V61)","v":0},{"$f":"SUM(Rendelés!W61)","v":0},{"$f":"SUM(Rendelés!X61)","v":0},{"$f":"SUM(Rendelés!Y61)","v":0},{"$f":"SUM(Rendelés!Z61)","v":2},{"$f":"SUM(Rendelés!AA61)","v":0},{"$f":"SUM(Rendelés!AB61)","v":0},{"$f":"SUM(Rendelés!AC61)","v":1},{"$f":"SUM(Rendelés!AD61)","v":0},{"$f":"SUM(Rendelés!AE61)","v":1},{"$f":"SUM(Rendelés!AF61)","v":0},{"$f":"SUM(Rendelés!AG61)","v":0},{"$f":"SUM(Rendelés!AH61)","v":0},{"$f":"SUM(Rendelés!AI61)","v":1},{"$f":"SUM(Rendelés!AJ61)","v":1}]
["Ebbol menu:",{"$f":"SUM(C55:AK55)","v":11},{"$f":"MIN(C51:C52)","v":1},0,1,0,0,0,1,1,0,1,0,0,0,0,{"$f":"MIN(Q51:Q52)","v":0},0,0,0,0,0,0,0,0,{"$f":"MIN(Z51:Z52)","v":2},0,0,{"$f":"MIN(AC51:AC52)","v":1},0,1,0,0,{"$f":"MIN(AH51:AH52)","v":0},1,1]
["Osszeg:",{"$f":"SUM(C56:AY56)","v":155},{"$f":"(C51-C55)*Rendelés!$H$64+(C52-C55)*Rendelés!$H$65+MAX(0,C53-C55)*Rendelés!$H$66+MAX(0, C54-C55)*Rendelés!$H$66+C55*Rendelés!$H$67","v":13},{"$f":"(D51-D55)*Rendelés!$H$64+(D52-D55)*Rendelés!$H$65+MAX(0,D53-D55)*Rendelés!$H$66+MAX(0, D54-D55)*Rendelés!$H$66+D55*Rendelés!$H$67","v":0},{"$f":"(E51-E55)*Rendelés!$H$64+(E52-E55)*Rendelés!$H$65+MAX(0,E53-E55)*Rendelés!$H$66+MAX(0, E54-E55)*Rendelés!$H$66+E55*Rendelés!$H$67","v":13},{"$f":"(F51-F55)*Rendelés!$H$64+(F52-F55)*Rendelés!$H$65+MAX(0,F53-F55)*Rendelés!$H$66+MAX(0, F54-F55)*Rendelés!$H$66+F55*Rendelés!$H$67","v":10},{"$f":"(G51-G55)*Rendelés!$H$64+(G52-G55)*Rendelés!$H$65+MAX(0,G53-G55)*Rendelés!$H$66+MAX(0, G54-G55)*Rendelés!$H$66+G55*Rendelés!$H$67","v":0},{"$f":"(H51-H55)*Rendelés!$H$64+(H52-H55)*Rendelés!$H$65+MAX(0,H53-H55)*Rendelés!$H$66+MAX(0, H54-H55)*Rendelés!$H$66+H55*Rendelés!$H$67","v":0},{"$f":"(I51-I55)*Rendelés!$H$64+(I52-I55)*Rendelés!$H$65+MAX(0,I53-I55)*Rendelés!$H$66+MAX(0, I54-I55)*Rendelés!$H$66+I55*Rendelés!$H$67","v":13},{"$f":"(J51-J55)*Rendelés!$H$64+(J52-J55)*Rendelés!$H$65+MAX(0,J53-J55)*Rendelés!$H$66+MAX(0, J54-J55)*Rendelés!$H$66+J55*Rendelés!$H$67","v":13},{"$f":"(K51-K55)*Rendelés!$H$64+(K52-K55)*Rendelés!$H$65+MAX(0,K53-K55)*Rendelés!$H$66+MAX(0, K54-K55)*Rendelés!$H$66+K55*Rendelés!$H$67","v":0},{"$f":"(L51-L55)*Rendelés!$H$64+(L52-L55)*Rendelés!$H$65+MAX(0,L53-L55)*Rendelés!$H$66+MAX(0, L54-L55)*Rendelés!$H$66+L55*Rendelés!$H$67","v":13},{"$f":"(M51-M55)*Rendelés!$H$64+(M52-M55)*Rendelés!$H$65+MAX(0,M53-M55)*Rendelés!$H$66+MAX(0, M54-M55)*Rendelés!$H$66+M55*Rendelés!$H$67","v":0},{"$f":"(N51-N55)*Rendelés!$H$64+(N52-N55)*Rendelés!$H$65+MAX(0,N53-N55)*Rendelés!$H$66+MAX(0, N54-N55)*Rendelés!$H$66+N55*Rendelés!$H$67","v":0},{"$f":"(O51-O55)*Rendelés!$H$64+(O52-O55)*Rendelés!$H$65+MAX(0,O53-O55)*Rendelés!$H$66+MAX(0, O54-O55)*Rendelés!$H$66+O55*Rendelés!$H$67","v":0},{"$f":"(P51-P55)*Rendelés!$H$64+(P52-P55)*Rendelés!$H$65+MAX(0,P53-P55)*Rendelés!$H$66+MAX(0, P54-P55)*Rendelés!$H$66+P55*Rendelés!$H$67","v":0},{"$f":"(Q51-Q55)*Rendelés!$H$64+(Q52-Q55)*Rendelés!$H$65+MAX(0,Q53-Q55)*Rendelés!$H$66+MAX(0, Q54-Q55)*Rendelés!$H$66+Q55*Rendelés!$H$67","v":0},{"$f":"(R51-R55)*Rendelés!$H$64+(R52-R55)*Rendelés!$H$65+MAX(0,R53-R55)*Rendelés!$H$66+MAX(0, R54-R55)*Rendelés!$H$66+R55*Rendelés!$H$67","v":0},{"$f":"(S51-S55)*Rendelés!$H$64+(S52-S55)*Rendelés!$H$65+MAX(0,S53-S55)*Rendelés!$H$66+MAX(0, S54-S55)*Rendelés!$H$66+S55*Rendelés!$H$67","v":0},{"$f":"(T51-T55)*Rendelés!$H$64+(T52-T55)*Rendelés!$H$65+MAX(0,T53-T55)*Rendelés!$H$66+MAX(0, T54-T55)*Rendelés!$H$66+T55*Rendelés!$H$67","v":0},{"$f":"(U51-U55)*Rendelés!$H$64+(U52-U55)*Rendelés!$H$65+MAX(0,U53-U55)*Rendelés!$H$66+MAX(0, U54-U55)*Rendelés!$H$66+U55*Rendelés!$H$67","v":0},{"$f":"(V51-V55)*Rendelés!$H$64+(V52-V55)*Rendelés!$H$65+MAX(0,V53-V55)*Rendelés!$H$66+MAX(0, V54-V55)*Rendelés!$H$66+V55*Rendelés!$H$67","v":0},{"$f":"(W51-W55)*Rendelés!$H$64+(W52-W55)*Rendelés!$H$65+MAX(0,W53-W55)*Rendelés!$H$66+MAX(0, W54-W55)*Rendelés!$H$66+W55*Rendelés!$H$67","v":0},{"$f":"(X51-X55)*Rendelés!$H$64+(X52-X55)*Rendelés!$H$65+MAX(0,X53-X55)*Rendelés!$H$66+MAX(0, X54-X55)*Rendelés!$H$66+X55*Rendelés!$H$67","v":0},{"$f":"(Y51-Y55)*Rendelés!$H$64+(Y52-Y55)*Rendelés!$H$65+MAX(0,Y53-Y55)*Rendelés!$H$66+MAX(0, Y54-Y55)*Rendelés!$H$66+Y55*Rendelés!$H$67","v":0},{"$f":"(Z51-Z55)*Rendelés!$H$64+(Z52-Z55)*Rendelés!$H$65+MAX(0,Z53-Z55)*Rendelés!$H$66+MAX(0, Z54-Z55)*Rendelés!$H$66+Z55*Rendelés!$H$67","v":26},{"$f":"(AA51-AA55)*Rendelés!$H$64+(AA52-AA55)*Rendelés!$H$65+MAX(0,AA53-AA55)*Rendelés!$H$66+MAX(0, AA54-AA55)*Rendelés!$H$66+AA55*Rendelés!$H$67","v":0},{"$f":"(AB51-AB55)*Rendelés!$H$64+(AB52-AB55)*Rendelés!$H$65+MAX(0,AB53-AB55)*Rendelés!$H$66+MAX(0, AB54-AB55)*Rendelés!$H$66+AB55*Rendelés!$H$67","v":0},{"$f":"(AC51-AC55)*Rendelés!$H$64+(AC52-AC55)*Rendelés!$H$65+MAX(0,AC53-AC55)*Rendelés!$H$66+MAX(0, AC54-AC55)*Rendelés!$H$66+AC55*Rendelés!$H$67","v":13},{"$f":"(AD51-AD55)*Rendelés!$H$64+(AD52-AD55)*Rendelés!$H$65+MAX(0,AD53-AD55)*Rendelés!$H$66+MAX(0, AD54-AD55)*Rendelés!$H$66+AD55*Rendelés!$H$67","v":0},{"$f":"(AE51-AE55)*Rendelés!$H$64+(AE52-AE55)*Rendelés!$H$65+MAX(0,AE53-AE55)*Rendelés!$H$66+MAX(0, AE54-AE55)*Rendelés!$H$66+AE55*Rendelés!$H$67","v":13},{"$f":"(AF51-AF55)*Rendelés!$H$64+(AF52-AF55)*Rendelés!$H$65+MAX(0,AF53-AF55)*Rendelés!$H$66+MAX(0, AF54-AF55)*Rendelés!$H$66+AF55*Rendelés!$H$67","v":0},{"$f":"(AG51-AG55)*Rendelés!$H$64+(AG52-AG55)*Rendelés!$H$65+MAX(0,AG53-AG55)*Rendelés!$H$66+MAX(0, AG54-AG55)*Rendelés!$H$66+AG55*Rendelés!$H$67","v":2},{"$f":"(AH51-AH55)*Rendelés!$H$64+(AH52-AH55)*Rendelés!$H$65+MAX(0,AH53-AH55)*Rendelés!$H$66+MAX(0, AH54-AH55)*Rendelés!$H$66+AH55*Rendelés!$H$67","v":0},{"$f":"(AI51-AI55)*Rendelés!$H$64+(AI52-AI55)*Rendelés!$H$65+MAX(0,AI53-AI55)*Rendelés!$H$66+MAX(0, AI54-AI55)*Rendelés!$H$66+AI55*Rendelés!$H$67","v":13},{"$f":"(AJ51-AJ55)*Rendelés!$H$64+(AJ52-AJ55)*Rendelés!$H$65+MAX(0,AJ53-AJ55)*Rendelés!$H$66+MAX(0, AJ54-AJ55)*Rendelés!$H$66+AJ55*Rendelés!$H$67","v":13}]
["Fizetett:",{"$f":"SUM(C57:AY57)","v":0}]

{"sheet":"Nyomtatás","index":2,"n_rows":17,"n_cols":39,"rows_kept":17,"cut":false,"hidden":false,"merged":[]}
[{"$f":"WEEKDAY(TODAY(),3)","v":4},{"$f":"Rendelés!B1","v":"Összesen"},{"$f":"Rendelés!C1","v":"a"},{"$f":"Rendelés!D1","v":"b"},{"$f":"Rendelés!E1","v":"c"},{"$f":"Rendelés!F1","v":"d"},{"$f":"Rendelés!G1","v":"e"},{"$f":"Rendelés!H1","v":"e"},{"$f":"Rendelés!I1","v":"e"},{"$f":"Rendelés!J1","v":"e"},{"$f":"Rendelés!K1","v":"e"},{"$f":"Rendelés!L1","v":"e"},{"$f":"Rendelés!M1","v":"e"},{"$f":"Rendelés!N1","v":"e"},{"$f":"Rendelés!O1","v":"e"},{"$f":"Rendelés!P1","v":"e"},{"$f":"Rendelés!Q1","v":"e"},{"$f":"Rendelés!R1","v":"e"},{"$f":"Rendelés!S1","v":"e"},{"$f":"Rendelés!T1","v":"e"},{"$f":"Rendelés!U1","v":"e"},{"$f":"Rendelés!V1","v":"e"},{"$f":"Rendelés!W1","v":"e"},{"$f":"Rendelés!X1","v":"e"},{"$f":"Rendelés!Y1","v":"e"},{"$f":"Rendelés!Z1","v":"e"},{"$f":"Rendelés!AA1","v":"e"},{"$f":"Rendelés!AB1","v":"e"},{"$f":"Rendelés!AC1","v":"e"},{"$f":"Rendelés!AD1","v":"e"},{"$f":"Rendelés!AE1","v":"e"},{"$f":"Rendelés!AF1","v":"e"},{"$f":"Rendelés!AG1","v":"e"},{"$f":"Rendelés!AH1","v":"e"},{"$f":"Rendelés!AI1","v":"e"},{"$f":"Rendelés!AJ1","v":"e"},{"$f":"Rendelés!AK1","v":0},{"$f":"Rendelés!AL1","v":0},{"$f":"Rendelés!AM1","v":0}]
[{"$f":"INDIRECT(ADDRESS(ROW(A2)+$A$1*12,COLUMN(A2),,,\"Rendelés\"))","v":"Péntek"}]
[{"$f":"INDIRECT(ADDRESS(ROW(A3)+$A$1*12,COLUMN(A3),,,\"Rendelés\"))","v":"Lucskos cu afumatura"},{"$f":"INDIRECT(ADDRESS(ROW(B3)+$A$1*12,COLUMN(B3),,,\"Rendelés\"))","v":6},1,0,1,0,0,0,0,0,0,1,0,0,0,0,{"$f":"INDIRECT(ADDRESS(ROW(Q3)+$A$1*12,COLUMN(Q3),,,\"Rendelés\"))","v":0},0,0,0,0,0,0,0,0,2,0,0,0,0,1,0,0,0,0,0,0,0,0]
[{"$f":"INDIRECT(ADDRESS(ROW(A4)+$A$1*12,COLUMN(A4),,,\"Rendelés\"))","v":"Supa de carne cu legume"},1,0,0,0,0,0,0,1,0,0,0,0,0,0,0,0,0,0,0,0,0,0,0,0,0,0,0,0,0,0,0,0,0,0,0,0,0,0]
["Gulyas de pui",4,0,0,0,0,0,0,0,1,0,0,0,0,0,0,0,0,0,0,0,0,0,0,0,0,0,0,{"$f":"INDIRECT(ADDRESS(ROW(AC5)+$A$1*12,COLUMN(AC5),,,\"Rendelés\"))","v":1},0,0,0,0,0,1,1,0,0,0]
["Supa crema de broccoli(P)",0,0,0,0,0,0,0,0,0,0,0,0,0,0,0,0,0,0,0,0,0,0,0,0,0,0,0,0,0,0,0,0,0,0,0,0,0,0]
["Cotlet Holstein + Piure de cartofi",7,1,0,0,{"$f":"INDIRECT(ADDRESS(ROW(F7)+$A$1*12,COLUMN(F7),,,\"Rendelés\"))","v":1},0,0,1,1,0,0,0,0,0,0,0,0,0,0,0,0,0,0,0,0,0,0,1,0,1,0,0,0,0,1,0,0,0]
["Iahnie de fasole cu ciolan prajit",2,0,0,0,0,0,0,0,0,0,1,0,0,0,0,0,0,0,0,0,0,0,0,0,0,0,0,0,0,0,0,0,0,1,0,0,0,0]
["Pulpa de pui la tava + Rizi-bizi",3,0,0,1,0,0,0,0,0,0,0,0,0,0,0,0,0,0,0,0,0,0,{"$f":"INDIRECT(ADDRESS(ROW(X9)+$A$1*12,COLUMN(X9),,,\"Rendelés\"))","v":0},0,2,0,0,0,0,0,0,0,0,0,0,0,{"$f":"INDIRECT(ADDRESS(ROW(AL9)+$A$1*12,COLUMN(AL9),,,\"Rendelés\"))","v":0},0]
["Farfalle Porcini(P)",0,0,0,0,0,0,0,0,0,0,0,0,0,0,0,0,{"$f":"INDIRECT(ADDRESS(ROW(R10)+$A$1*12,COLUMN(R10),,,\"Rendelés\"))","v":0},0,0,0,0,0,0,0,0,0,0,0,0,0,0,0,0,0,0,0,0,0]
["Salata de rosii",12,1,0,1,1,0,0,1,1,0,1,0,0,0,0,0,0,0,0,0,0,0,0,0,2,0,0,1,0,1,0,1,0,0,1,0,0,0]
["-",0,0,0,0,0,0,0,0,0,0,0,0,0,0,0,0,0,0,0,0,0,0,0,0,0,0,0,0,0,0,0,0,0,0,0,0,0,0]
["Pepene",11,1,0,1,0,0,0,1,1,0,1,0,0,0,0,0,0,0,0,0,0,0,0,0,2,0,0,1,0,1,0,0,0,1,1,0,0,0]
[]
["Fizetni",{"$f":"INDIRECT(ADDRESS(ROW(B8)+$A$1*12,COLUMN(B6),,,\"Elszámolás\"))","v":155},{"$f":"INDIRECT(ADDRESS(ROW(C8)+$A$1*12,COLUMN(C6),,,\"Elszámolás\"))","v":13},{"$f":"INDIRECT(ADDRESS(ROW(D8)+$A$1*12,COLUMN(D6),,,\"Elszámolás\"))","v":0},13,10,0,0,13,13,0,13,0,0,0,0,0,0,0,0,0,0,0,0,0,26,0,0,13,0,13,0,2,0,13,13]
["Fizetett"]
[null,null,{"$f":"C1","v":"a"},{"$f":"D1","v":"b"},"c","d","e","e","e","e","e","e","e","e","e","e","e","e","e","e","e","e","e","e","e","e","e","e","e","e","e","e","e","e","e","e"]

{"sheet":"Email","index":3,"n_rows":20,"n_cols":3,"rows_kept":20,"cut":false,"hidden":false,"merged":[]}
[]
[]
[]
[]
[null,{"$f":"Nyomtatás!A2","v":"Péntek"}]
[null,{"$f":"Nyomtatás!A3","v":"Lucskos cu afumatura"},{"$f":"Nyomtatás!B3","v":6}]
[null,{"$f":"Nyomtatás!A4","v":"Supa de carne cu legume"},{"$f":"Nyomtatás!B4","v":1}]
[null,{"$f":"Nyomtatás!A5","v":"Gulyas de pui"},{"$f":"Nyomtatás!B5","v":4}]
[null,{"$f":"Nyomtatás!A6","v":"Supa crema de broccoli(P)"},{"$f":"Nyomtatás!B6","v":0}]
[null,{"$f":"Nyomtatás!A7","v":"Cotlet Holstein + Piure de cartofi"},{"$f":"Nyomtatás!B7","v":7}]
[null,{"$f":"Nyomtatás!A8","v":"Iahnie de fasole cu ciolan prajit"},{"$f":"Nyomtatás!B8","v":2}]
[null,{"$f":"Nyomtatás!A9","v":"Pulpa de pui la tava + Rizi-bizi"},{"$f":"Nyomtatás!B9","v":3}]
[null,{"$f":"Nyomtatás!A10","v":"Farfalle Porcini(P)"},{"$f":"Nyomtatás!B10","v":0}]
[null,{"$f":"Nyomtatás!A11","v":"Salata de rosii"},{"$f":"Nyomtatás!B11","v":12}]
[]
[null,{"$f":"Nyomtatás!A13","v":"Pepene"},{"$f":"Nyomtatás!B13","v":11}]
[]
[]
[]
[null,"Emailcim:","catering@meselevesele.ro"]